BEGIN:VCALENDAR
VERSION:2.0
PRODID:-//Iatrikostypos.com - ECPv6.15.16//NONSGML v1.0//EN
CALSCALE:GREGORIAN
METHOD:PUBLISH
X-ORIGINAL-URL:https://iatrikostypos.com
X-WR-CALDESC:Events for Iatrikostypos.com
REFRESH-INTERVAL;VALUE=DURATION:PT1H
X-Robots-Tag:noindex
X-PUBLISHED-TTL:PT1H
BEGIN:VTIMEZONE
TZID:Europe/Helsinki
BEGIN:DAYLIGHT
TZOFFSETFROM:+0200
TZOFFSETTO:+0300
TZNAME:EEST
DTSTART:20170326T010000
END:DAYLIGHT
BEGIN:STANDARD
TZOFFSETFROM:+0300
TZOFFSETTO:+0200
TZNAME:EET
DTSTART:20171029T010000
END:STANDARD
BEGIN:DAYLIGHT
TZOFFSETFROM:+0200
TZOFFSETTO:+0300
TZNAME:EEST
DTSTART:20180325T010000
END:DAYLIGHT
BEGIN:STANDARD
TZOFFSETFROM:+0300
TZOFFSETTO:+0200
TZNAME:EET
DTSTART:20181028T010000
END:STANDARD
BEGIN:DAYLIGHT
TZOFFSETFROM:+0200
TZOFFSETTO:+0300
TZNAME:EEST
DTSTART:20190331T010000
END:DAYLIGHT
BEGIN:STANDARD
TZOFFSETFROM:+0300
TZOFFSETTO:+0200
TZNAME:EET
DTSTART:20191027T010000
END:STANDARD
END:VTIMEZONE
BEGIN:VEVENT
DTSTART;TZID=Europe/Helsinki:20181102T080000
DTEND;TZID=Europe/Helsinki:20181104T170000
DTSTAMP:20260419T175423
CREATED:20181017T102315Z
LAST-MODIFIED:20181017T102315Z
UID:3403-1541145600-1541350800@iatrikostypos.com
SUMMARY:26ο Πανελλήνιο Συνέδριο Ελληνικής Εταιρείας Μελέτης Μεταβολισμού των Oστών
DESCRIPTION:26ο Πανελλήνιο Συνέδριο Ελληνικής Εταιρείας Μελέτης Μεταβολισμού των Oστών \n02/11/2018 – 04/11/2018 \nΞενοδοχείο Makedonia Palace Θεσσαλονίκη \nΕπιστημονική Εταιρεία: Ελληνική Εταιρεία Μελέτης Μεταβολισμού των Oστών- EEMMO \nΕπαγγελματίας Οργανωτής : PCO – Convin \nΤηλέφωνο : 210 6833600 \nEmail : info@26eemmo.gr \nWebsite : www.26eemmo.gr
URL:https://iatrikostypos.com/event/26o-panellinio-synedrio-ellinikis-etaireias-meletis-metavolismoy-ton-oston/
CATEGORIES:Διάφορα,ΣΥΝΕΔΡΙΑ
ATTACH;FMTTYPE=image/jpeg:https://iatrikostypos.com/wp-content/uploads/2018/10/26EEMMO_POSTER_35x50-1.jpg
END:VEVENT
BEGIN:VEVENT
DTSTART;TZID=Europe/Helsinki:20181102T080000
DTEND;TZID=Europe/Helsinki:20181103T170000
DTSTAMP:20260419T175423
CREATED:20181017T103434Z
LAST-MODIFIED:20181017T103434Z
UID:3410-1541145600-1541264400@iatrikostypos.com
SUMMARY:6o Κλινικό Φροντιστήριο\, Πνευμονικής Υπέρτασης & Θρόμβωσης
DESCRIPTION:6o Κλινικό Φροντιστήριο\, Πνευμονικής Υπέρτασης & Θρόμβωσης \n02/11/2018 – 03/11/2018 \nΜέγαρο Μουσικής Θεσσαλονίκης \nΕπιστημονική Εταιρεία: Α’ Πανεπιστημιακή Κλινική Π.Γ.Ν «ΑΧΕΠΑ» \nΕπαγγελματίας Οργανωτής : TMG- The Mastermind Group \nΤηλ: 210 6827405-210 6839690/1
URL:https://iatrikostypos.com/event/6o-kliniko-frontistirio-pneymonikis-ypertasis-amp-thromvosis/
CATEGORIES:Διάφορα,ΣΥΝΕΔΡΙΑ,Υπέρταση
ATTACH;FMTTYPE=image/png:https://iatrikostypos.com/wp-content/uploads/2018/10/6.png
END:VEVENT
BEGIN:VEVENT
DTSTART;TZID=Europe/Helsinki:20181102T080000
DTEND;TZID=Europe/Helsinki:20181102T170000
DTSTAMP:20260419T175423
CREATED:20181017T104407Z
LAST-MODIFIED:20181017T104407Z
UID:3415-1541145600-1541178000@iatrikostypos.com
SUMMARY:8η Ηπατολογική Ημερίδα «Νεότερες Εξελίξεις στα Νοσήματα του Ήπατος VIII»
DESCRIPTION:8η Ηπατολογική Ημερίδα «Νεότερες Εξελίξεις στα Νοσήματα του Ήπατος VIII» \n02/11/2018 \nΣυνεδριακό Κέντρο «Ν. Λούρος» ΜΗΤΕΡΑ\, Αθήνα \nΕπιστημονική Εταιρεία: Ηπατολογικό Τμήμα του Νοσοκομείου ΥΓΕΙΑ \nΕπαγγελματίας Οργανωτής: Synthesis Group-Τηλ.: 2104190900- info@synthesis–group.gr \nWebsite : www.hygeia.gr
URL:https://iatrikostypos.com/event/8i-ipatologiki-imerida-neoteres-exelixeis-sta-nosimata-toy-ipatos-viii/
CATEGORIES:Διάφορα,ΣΥΝΕΔΡΙΑ
ATTACH;FMTTYPE=image/jpeg:https://iatrikostypos.com/wp-content/uploads/2018/10/HPATOLOGIKH-HMER_VIII_Poster.jpg
ORGANIZER;CN="SYNTHESIS GROUP":MAILTO:info@synthesis-group.gr
END:VEVENT
BEGIN:VEVENT
DTSTART;TZID=Europe/Helsinki:20181101T080000
DTEND;TZID=Europe/Helsinki:20181104T170000
DTSTAMP:20260419T175423
CREATED:20181017T101835Z
LAST-MODIFIED:20181017T101835Z
UID:3400-1541059200-1541350800@iatrikostypos.com
SUMMARY:7ο Πανελλήνιο Συνέδριο Αγγειακών Εγκεφαλικών Νόσων
DESCRIPTION:7ο Πανελλήνιο Συνέδριο Αγγειακών Εγκεφαλικών Νόσων \n01/11/2018 – 04/11/2018 \nGrand Hotel Palace\, Θεσσαλονίκη \nΕπιστημονική Εταιρεία: Ελληνική Εταιρεία Αγγειακών Εγκεφαλικών Νόσων \nΕπαγγελματίας Οργανωτής:  Global Events \nΤηλέφωνο : 2310247743 \nEmail : info@globalevents \nWebsite : www.globalevents.gr
URL:https://iatrikostypos.com/event/7o-panellinio-synedrio-aggeiakon-egkefalikon-noson/
CATEGORIES:Διάφορα,ΣΥΝΕΔΡΙΑ
ORGANIZER;CN="Global Events":MAILTO:info@globalevents.gr
END:VEVENT
BEGIN:VEVENT
DTSTART;TZID=Europe/Helsinki:20181101T080000
DTEND;TZID=Europe/Helsinki:20181104T170000
DTSTAMP:20260419T175423
CREATED:20181017T101512Z
LAST-MODIFIED:20181017T101512Z
UID:3397-1541059200-1541350800@iatrikostypos.com
SUMMARY:14o Πανελλήνιο Συνέδριο Δερματολογίας-Αφροδισιολογίας
DESCRIPTION:14o Πανελλήνιο Συνέδριο Δερματολογίας-Αφροδισιολογίας \n01/11/2018 – 04/11/2018 \nHilton Athens Hotel\, Αθήνα \nΕπιστημονική Εταιρεία: Ελληνική Δερματολογική και Αφροδισιολογική Εταιρεία \nΕπαγγελματίας Οργανωτής:  Erasmus A.E. \nΤηλέφωνο : 210 7414700 \nEmail : info@dermatology2018.gr \nWebsite : www.dermatology2018.gr/
URL:https://iatrikostypos.com/event/14o-panellinio-synedrio-dermatologias-afrodisiologias/
CATEGORIES:Διάφορα,ΣΥΝΕΔΡΙΑ
END:VEVENT
BEGIN:VEVENT
DTSTART;TZID=Europe/Helsinki:20181101T080000
DTEND;TZID=Europe/Helsinki:20181104T170000
DTSTAMP:20260419T175423
CREATED:20181017T095949Z
LAST-MODIFIED:20181017T095949Z
UID:3393-1541059200-1541350800@iatrikostypos.com
SUMMARY:12ο Πανελλήνιο Συνέδριο Σπονδυλικής Στήλης & 42ο Συμπόσιο «Ν. Γιαννέστρας – Π. Σμύρνης»
DESCRIPTION:12ο Πανελλήνιο Συνέδριο Σπονδυλικής Στήλης & 42ο Συμπόσιο «Ν. Γιαννέστρας – Π. Σμύρνης» \n01/11/2018 – 04/11/2018 \nΞενοδοχείο Valis\, Βόλος \nΕπιστημονική Εταιρεία: Ελληνική Εταιρεία Σπονδυλικής Στήλης \nΕπαγγελματίας Οργανωτής : Synthesis Group \nΤηλ.: 2104190900 \ne-mail: info@synthesis-group.gr
URL:https://iatrikostypos.com/event/12o-panellinio-synedrio-spondylikis-stilis-amp-42o-symposio-n-giannestras-p-smyrnis/
CATEGORIES:Γενικής Χειρουργικής,Διάφορα,Ρευματολογικό,ΣΥΝΕΔΡΙΑ
ATTACH;FMTTYPE=image/jpeg:https://iatrikostypos.com/wp-content/uploads/2018/10/AFISA_Spine12o-Volos_32x48_011118-page-001.jpg
ORGANIZER;CN="SYNTHESIS GROUP":MAILTO:info@synthesis-group.gr
END:VEVENT
BEGIN:VEVENT
DTSTART;TZID=Europe/Helsinki:20181031T080000
DTEND;TZID=Europe/Helsinki:20181103T170000
DTSTAMP:20260419T175423
CREATED:20181017T095454Z
LAST-MODIFIED:20181017T095454Z
UID:3390-1540972800-1541264400@iatrikostypos.com
SUMMARY:21ο Πανελλήνιο Συνέδριο Εσωτερικής Παθολογίας – «Προάγοντας τη Γνώση στην Παθολογία επί 31 Χρόνια»
DESCRIPTION:21ο Πανελλήνιο Συνέδριο Εσωτερικής Παθολογίας – «Προάγοντας τη Γνώση στην Παθολογία επί 31 Χρόνια» \n31/10/2018 – 03/11/2018 \nΞενοδοχείο DIVANI CARAVEL\, Αθήνα \nΕπιστημονική Εταιρεία: Ελληνική Εταιρεία Εσωτερικής Παθολογίας \nΕπαγγελματίας Οργανωτής: Congress World \nEmail : info@congressworld.gr \nWebsite : www.congressworld.gr
URL:https://iatrikostypos.com/event/21o-panellinio-synedrio-esoterikis-pathologias-proagontas-ti-gnosi-stin-pathologia-epi-31-chronia/
CATEGORIES:Διάφορα,ΣΥΝΕΔΡΙΑ
ATTACH;FMTTYPE=image/jpeg:https://iatrikostypos.com/wp-content/uploads/2018/10/DIVANI.jpg
ORGANIZER;CN="Congress World":MAILTO:info@congressworld.gr
END:VEVENT
BEGIN:VEVENT
DTSTART;TZID=Europe/Helsinki:20181020T080000
DTEND;TZID=Europe/Helsinki:20181021T170000
DTSTAMP:20260419T175423
CREATED:20181017T090813Z
LAST-MODIFIED:20181017T090813Z
UID:3369-1540022400-1540141200@iatrikostypos.com
SUMMARY:3ο Συνέδριο Ποδιατρικής-Ποδολογίας
DESCRIPTION:3ο Συνέδριο Ποδιατρικής-Ποδολογίας \n20/10/2018 – 21/10/2018 \nΞενοδοχείο Royal Olympic\, Αθήνα \nΕπιστημονική Εταιρεία: Ελληνικός Συλλόγος Ποδιάτρων-Ποδολόγων \nΕπαγγελματίας Οργανωτής: Erasmus A.E. \nΤηλέφωνο : 210 7414700 \nEmail : info@hellenicpodiatry.gr
URL:https://iatrikostypos.com/event/3o-synedrio-podiatrikis-podologias/
CATEGORIES:Διάφορα,ΣΥΝΕΔΡΙΑ
ATTACH;FMTTYPE=image/png:https://iatrikostypos.com/wp-content/uploads/2018/10/PODOLOGIA.png
END:VEVENT
BEGIN:VEVENT
DTSTART;TZID=Europe/Helsinki:20181020T080000
DTEND;TZID=Europe/Helsinki:20181020T170000
DTSTAMP:20260419T175423
CREATED:20181017T091439Z
LAST-MODIFIED:20181017T091439Z
UID:3373-1540022400-1540054800@iatrikostypos.com
SUMMARY:Ημερίδα Εταιρείας Γενετικής στην Οφθαλμολογία
DESCRIPTION:Ημερίδα Εταιρείας Γενετικής στην Οφθαλμολογία \n20/10/2018 \nΞενοδοχείο Grand Serai\, Ιωάννινα \nΕπιστημονική Εταιρεία: Εταιρεία Γενετικής στην Οφθαλμολογία \nΕπαγγελματίας Οργανωτής: Συνεδριακή ΑΕ \nΤηλέφωνο : 6957460457
URL:https://iatrikostypos.com/event/imerida-etaireias-genetikis-stin-ofthalmologia/
CATEGORIES:Διάφορα,ΣΥΝΕΔΡΙΑ
ATTACH;FMTTYPE=image/png:https://iatrikostypos.com/wp-content/uploads/2018/10/OFTHALOMOLOGY.png
END:VEVENT
BEGIN:VEVENT
DTSTART;TZID=Europe/Helsinki:20181019T080000
DTEND;TZID=Europe/Helsinki:20181021T170000
DTSTAMP:20260419T175423
CREATED:20181017T090221Z
LAST-MODIFIED:20181017T090221Z
UID:3365-1539936000-1540141200@iatrikostypos.com
SUMMARY:13ο Παμπελοποννησιακό Ιατρικό Συνέδριο
DESCRIPTION:13ο Παμπελοποννησιακό Ιατρικό Συνέδριο \n19/10/2018 – 21/10/2018 \nΣυνεδριακό Κέντρο Πανεπιστημίου Πατρών\, Πάτρα \nΕπιστημονική Εταιρεία: Ιατρική Εταιρεία Δυτικής Ελλάδος – Πελοποννήσου \nΕπαγγελματίας Οργανωτής: Συνεδριακή ΑΕ \nΤηλέφωνο : 6957460457 \nEmail : info@conferre.gr
URL:https://iatrikostypos.com/event/13o-pampeloponnisiako-iatriko-synedrio/
CATEGORIES:Διάφορα,ΣΥΝΕΔΡΙΑ
ATTACH;FMTTYPE=image/png:https://iatrikostypos.com/wp-content/uploads/2018/10/13.png
ORGANIZER;CN="Conferre - %CE%A3%CF%85%CE%BD%CE%B5%CE%B4%CF%81%CE%B9%CE%B1%CE%BA%CE%AE %CE%91%CE%95":MAILTO:info@conferre.gr
END:VEVENT
BEGIN:VEVENT
DTSTART;TZID=Europe/Helsinki:20181018T203000
DTEND;TZID=Europe/Helsinki:20181018T213000
DTSTAMP:20260419T175423
CREATED:20181017T082416Z
LAST-MODIFIED:20181017T082525Z
UID:3361-1539894600-1539898200@iatrikostypos.com
SUMMARY:WEBINAR: « Στοιχεία που βελτιώνουν την πρόγνωση της ενδοδοντικής θεραπείας»
DESCRIPTION:WEBINAR: \n \n« Στοιχεία που βελτιώνουν την πρόγνωση της ενδοδοντικής θεραπείας» \n18/10/2018 \nΕπαγγελματίας Οργανωτής: Glaxosmithkline \nΤηλέφωνο : 210-4171234 \nEmail : info@osp.gr
URL:https://iatrikostypos.com/event/webinar-stoicheia-poy-veltionoyn-tin-prognosi-tis-endodontikis-therapeias/
CATEGORIES:Διάφορα,Οδοντιατρικό
ORGANIZER;CN="GLAXOSMITHKLINE":MAILTO:info@osp.gr
END:VEVENT
BEGIN:VEVENT
DTSTART;TZID=Europe/Helsinki:20181018T080000
DTEND;TZID=Europe/Helsinki:20181021T170000
DTSTAMP:20260419T175423
CREATED:20181017T081752Z
LAST-MODIFIED:20181017T081752Z
UID:3357-1539849600-1540141200@iatrikostypos.com
SUMMARY:29ο Πανελλήνιο Συνέδριο Περιεγχειρητικής Νοσηλευτικής
DESCRIPTION:29ο Πανελλήνιο Συνέδριο Περιεγχειρητικής Νοσηλευτικής \n18/10/2018 – 21/10/2018 \nΞενοδοχείο Ionian Blue\, Λευκάδα \nΕπιστημονική Εταιρεία: ΣΥ.Δ.ΝΟ.Χ \nΕπαγγελματίας Οργανωτής: AFEA \nΤηλέφωνο : 210-3668892 – 210-3668953 \nEmail : info@sydnox2018.gr \nWebsite : www.sydnox2018.gr
URL:https://iatrikostypos.com/event/29o-panellinio-synedrio-periegcheiritikis-nosileytikis/
CATEGORIES:Διάφορα,ΣΥΝΕΔΡΙΑ
ATTACH;FMTTYPE=image/png:https://iatrikostypos.com/wp-content/uploads/2018/10/29.png
ORGANIZER;CN="AFEA":MAILTO:info@sydnox2018.gr
END:VEVENT
BEGIN:VEVENT
DTSTART;TZID=Europe/Helsinki:20181018T080000
DTEND;TZID=Europe/Helsinki:20181020T170000
DTSTAMP:20260419T175423
CREATED:20181017T081102Z
LAST-MODIFIED:20181017T081102Z
UID:3352-1539849600-1540054800@iatrikostypos.com
SUMMARY:27ο ΙΑΤΡΙΚΟ ΣΥΝΕΔΡΙΟ ΕΝΟΠΛΩΝ ΔΥΝΑΜΕΩΝ
DESCRIPTION:27ο ΙΑΤΡΙΚΟ ΣΥΝΕΔΡΙΟ ΕΝΟΠΛΩΝ ΔΥΝΑΜΕΩΝ \n18/10/2018 – 20/10/2018 \nMakedonia Palace Hotel\, Θεσσαλονίκη \nΕπιστημονική Εταιρεία: ΙΑΤΡΙΚΟ ΣΥΝΕΔΡΙΟ ΕΝΟΠΛΩΝ ΔΥΝΑΜΕΩΝ \nΕπαγγελματίας Οργανωτής: PREMIUM EVENTS \nΤηλέφωνο : 2310226250 \nEmail : conference2@premium-events.gr \nWebsite : www.milmed.gr/
URL:https://iatrikostypos.com/event/27o-iatriko-synedrio-enoplon-dynameon/
CATEGORIES:Διάφορα
ATTACH;FMTTYPE=image/png:https://iatrikostypos.com/wp-content/uploads/2018/10/ENOPLO-DYNAMEON.png
ORGANIZER;CN="PREMIUM EVENTS":MAILTO:conference2@premium-events.gr
END:VEVENT
BEGIN:VEVENT
DTSTART;TZID=Europe/Helsinki:20181017T080000
DTEND;TZID=Europe/Helsinki:20181017T170000
DTSTAMP:20260419T175423
CREATED:20181017T093910Z
LAST-MODIFIED:20181017T093910Z
UID:3381-1539763200-1539795600@iatrikostypos.com
SUMMARY:Συνέδριο για πλαστικούς χειρούργους – ESPRAS 2018
DESCRIPTION:Συνέδριο για πλαστικούς χειρούργους – ESPRAS 2018 \n23/10/2018 – 27/10/2018 \nΚύπρος \nΕπαγγελματίας Οργανωτής: Easy Conferences \nΤηλέφωνο : +357 22 591 900
URL:https://iatrikostypos.com/event/synedrio-gia-plastikoys-cheiroyrgoys-espras-2018/
CATEGORIES:Διάφορα,ΣΥΝΕΔΡΙΑ
ATTACH;FMTTYPE=image/png:https://iatrikostypos.com/wp-content/uploads/2018/10/ESPRAS-2018.png
END:VEVENT
BEGIN:VEVENT
DTSTART;TZID=Europe/Helsinki:20181010T080000
DTEND;TZID=Europe/Helsinki:20181013T170000
DTSTAMP:20260419T175423
CREATED:20181003T122131Z
LAST-MODIFIED:20181003T122131Z
UID:3215-1539158400-1539450000@iatrikostypos.com
SUMMARY:74ο Συνέδριο Ορθοπαιδικής Χειρουργικής & Τραυματολογίας
DESCRIPTION:74ο Συνέδριο Ορθοπαιδικής Χειρουργικής & Τραυματολογίας \n10/10/2018 – 13/10/2018 \nDivani Caravel Hotel\, Αθήνα \nΕπιστημονική Εταιρεία: ΕΛΛΗΝΙΚΗ ΕΤΑΙΡΕΙΑ ΧΕΙΡΟΥΡΓΙΚΗΣ ΟΡΘΟΠΑΙΔΙΚΗΣ ΚΑΙ ΤΡΑΥΜΑΤΟΛΟΓΙΑΣ \nΕπαγγελματίας Οργανωτής: Global Events \nΤηλέφωνο : 2310247743 \nEmail : info@globalevents \nWebsite : www.globalevents.gr
URL:https://iatrikostypos.com/event/74o-synedrio-orthopaidikis-cheiroyrgikis-amp-traymatologias/
CATEGORIES:Διάφορα,ΣΥΝΕΔΡΙΑ
ORGANIZER;CN="Global Events":MAILTO:info@globalevents.gr
END:VEVENT
BEGIN:VEVENT
DTSTART;TZID=Europe/Helsinki:20181005T080000
DTEND;TZID=Europe/Helsinki:20181007T170000
DTSTAMP:20260419T175423
CREATED:20181003T115405Z
LAST-MODIFIED:20181003T115405Z
UID:3202-1538726400-1538931600@iatrikostypos.com
SUMMARY:Ετήσιο Πανελλήνιο Ιατρικό Συνέδριο 2018
DESCRIPTION:Ετήσιο Πανελλήνιο Ιατρικό Συνέδριο 2018 – Αυτοάνοσα\, Ρευματικά\, Μυοσκελετικά και Μεταβολικά Νοσήματα – Συνεργασία των Ιατρικών Ειδικοτήτων I.Διαγνωστική Προσέγγιση\, Συννοσηρότητες και Προβληματισμοί II.Θεραπευτικές Εξελίξεις\, Life Style και Ποιότητα \n05/10/2018 – 07/10/2018 \nGrand Serai Hotel\, Ιωάννινα \nΕπιστημονική Εταιρεία: Εταιρεία Ιατρικών Σπουδών \nΕπαγγελματίας Οργανωτής: Global Events \nΤηλέφωνο : 2310247743 \nEmail : info@globalevents- Website : www.globalevents.gr
URL:https://iatrikostypos.com/event/etisio-panellinio-iatriko-synedrio-2018/
CATEGORIES:Διάφορα,ΣΥΝΕΔΡΙΑ
ORGANIZER;CN="Global Events":MAILTO:info@globalevents.gr
END:VEVENT
BEGIN:VEVENT
DTSTART;TZID=Europe/Helsinki:20181004T080000
DTEND;TZID=Europe/Helsinki:20181006T170000
DTSTAMP:20260419T175423
CREATED:20181003T105604Z
LAST-MODIFIED:20181003T105604Z
UID:3183-1538640000-1538845200@iatrikostypos.com
SUMMARY:2nd ESUR TEACHING COURSE
DESCRIPTION:2nd ESUR TEACHING COURSE \n04/10/2018 – 06/10/2018 \nΑίγλη Ζαππείου\, Αθήνα \nΕπιστημονική Εταιρεία: ESUR-ΕΛΛΗΝΙΚΟ ΚΟΛΛΕΓΙΟ ΑΚΤΙΝΟΛΟΓΙΑΣ \nΕπαγγελματίας Οργανωτής: PRC CONGRESS & TRAVEL \nΤηλέφωνο : 2107711673 \nEmail : congress3@prctravel.gr \nWebsite : www.prctravel.gr
URL:https://iatrikostypos.com/event/2nd-esur-teaching-course/
CATEGORIES:Διάφορα,ΣΥΝΕΔΡΙΑ
ORGANIZER;CN="PRC CONGRESS & TRAVEL":MAILTO:congress3@prctravel.gr
END:VEVENT
BEGIN:VEVENT
DTSTART;TZID=Europe/Helsinki:20180928T080000
DTEND;TZID=Europe/Helsinki:20180930T170000
DTSTAMP:20260419T175423
CREATED:20180920T104234Z
LAST-MODIFIED:20180920T104242Z
UID:2859-1538121600-1538326800@iatrikostypos.com
SUMMARY:6th Combo Endocrinology International Course & Live Workshops
DESCRIPTION:6th Combo Endocrinology International Course & Live Workshops \n28/09/2018 – 30/09/2018 \nCabo Verde Hotel\, Μαραθώνας \nΕπιστημονική Εταιρεία:Ελληνική Εταιρεία Παιδικής & Εφηβικής Ενδοκρινολογίας \nΕπαγγελματίας Οργανωτής: FREI SA \nΤηλέφωνο : 2103215600 \nEmail : congress_events@frei.gr \nWebsite : ​ ​www.comboendo.gr
URL:https://iatrikostypos.com/event/6th-combo-endocrinology-international-course-amp-live-workshops/
CATEGORIES:Διαβητολογικό,Διάφορα
ATTACH;FMTTYPE=image/png:https://iatrikostypos.com/wp-content/uploads/2018/09/combo.png
ORGANIZER;CN="FREI TRAVEL":MAILTO:info@frei.gr
END:VEVENT
BEGIN:VEVENT
DTSTART;TZID=Europe/Helsinki:20180928T080000
DTEND;TZID=Europe/Helsinki:20180930T170000
DTSTAMP:20260419T175423
CREATED:20180920T103326Z
LAST-MODIFIED:20180920T103326Z
UID:2856-1538121600-1538326800@iatrikostypos.com
SUMMARY:16ηΠανελλήνια Επιστημονική Εκδήλωση ΕΠ.Ε.Γ.Ε. – Παθήσεις Λεπτού και Παχέος Εντέρου
DESCRIPTION:16ηΠανελλήνια Επιστημονική Εκδήλωση ΕΠ.Ε.Γ.Ε. – Παθήσεις Λεπτού και Παχέος Εντέρου \nΕπαγγελματική Ένωση Γαστρεντερολόγων Ελλάδας \nΞενοδοχείο Divani Caravel – Αθήνα \n28/09/2018 – 30/09/2018 \nΕπαγγελματίας Οργανωτής: Congress World \nΤηλ.: 2107210001-2107210052 – Fax.: 2107210051 \ne-mail: info@congressworld.gr
URL:https://iatrikostypos.com/event/16ipanellinia-epistimoniki-ekdilosi-ep-e-g-e-pathiseis-leptoy-kai-pacheos-enteroy/
CATEGORIES:Διάφορα,ΣΥΝΕΔΡΙΑ
ATTACH;FMTTYPE=image/png:https://iatrikostypos.com/wp-content/uploads/2018/09/paxeos-enteroy.png
ORGANIZER;CN="Congress World":MAILTO:info@congressworld.gr
END:VEVENT
BEGIN:VEVENT
DTSTART;TZID=Europe/Helsinki:20180928T080000
DTEND;TZID=Europe/Helsinki:20180929T170000
DTSTAMP:20260419T175423
CREATED:20180920T093638Z
LAST-MODIFIED:20180920T093648Z
UID:2846-1538121600-1538240400@iatrikostypos.com
SUMMARY:ΕΤΗΣΙΟ ΜΕΤΕΚΠΑΙΔΕΥΤΙΚΟ ΣΕΜΙΝΑΡΙΟ Υγρών\, Ηλεκτρολυτών & Οξεοβασικής Ισορροπίας
DESCRIPTION:ΕΤΗΣΙΟ ΜΕΤΕΚΠΑΙΔΕΥΤΙΚΟ ΣΕΜΙΝΑΡΙΟ Υγρών\, Ηλεκτρολυτών & Οξεοβασικής Ισορροπίας \n28/09/2018 – 29/09/2018 \nΑμφιθέατρο Ιδρύματος Παπανικολάου\, Κομοτηνή \nΕπαγγελματίας Οργανωτής: Conferre – Συνεδριακή ΑΕ \nΤηλέφωνο : 6957460457 – 26510-68610 \nEmail : info@conferre.gr
URL:https://iatrikostypos.com/event/etisio-metekpaideytiko-seminario-ygron-ilektrolyton-amp-oxeovasikis-isorropias/
CATEGORIES:Διάφορα
ATTACH;FMTTYPE=image/png:https://iatrikostypos.com/wp-content/uploads/2018/09/METEKPAIDEYTIKO-SEMINARIO-YGRWN.png
ORGANIZER;CN="Conferre - %CE%A3%CF%85%CE%BD%CE%B5%CE%B4%CF%81%CE%B9%CE%B1%CE%BA%CE%AE %CE%91%CE%95":MAILTO:info@conferre.gr
END:VEVENT
BEGIN:VEVENT
DTSTART;TZID=Europe/Helsinki:20180927T080000
DTEND;TZID=Europe/Helsinki:20180929T190000
DTSTAMP:20260419T175423
CREATED:20180919T102620Z
LAST-MODIFIED:20180928T180853Z
UID:2798-1538035200-1538247600@iatrikostypos.com
SUMMARY:6ο Πανελλήνιο Συνέδριο Θρόμβωσης – Αντιθρομβωτικής Αγωγής
DESCRIPTION:6ο Πανελλήνιο Συνέδριο Θρόμβωσης – Αντιθρομβωτικής Αγωγής \n27/09/2018 – 29/09/2018 \nΞενοδοχείο DIVANI CARAVEL\, Αθήνα \nΕπιστημονική Εταιρεία: Ινστιτούτο Μελέτης και Εκπαίδευσης στη Θρόμβωση και την Αντιθρομβωτική Αγωγή – Ι.Μ.Ε.Θ.Α \nΕπαγγελματίας Οργανωτής: Congress World- Τηλ.: 2107210001-2107210052 – Fax.: 2107210051- e-mail: info@congressworld.gr
URL:https://iatrikostypos.com/event/6o-panellinio-synedrio-thromvosis-antithromvotikis-agogis/
CATEGORIES:Διάφορα
ORGANIZER;CN="Congress World":MAILTO:info@congressworld.gr
END:VEVENT
BEGIN:VEVENT
DTSTART;VALUE=DATE:20180927
DTEND;VALUE=DATE:20180930
DTSTAMP:20260419T175423
CREATED:20180920T080022Z
LAST-MODIFIED:20180920T080033Z
UID:2828-1538006400-1538265599@iatrikostypos.com
SUMMARY:Cardiovascular MRI & CT with Clinical Correlation\, Learn from the experts Hands on Training and Lecture
DESCRIPTION:Cardiovascular MRI & CT with Clinical Correlation\, Learn from the experts Hands on Training and Lecture \n27/09/2018 – 29/09/2018 \nΆγιος Λουκάς\, Θεσσαλονίκη \nΕπιστημονική Εταιρεία: ΑΚΤΙΝΟΛΟΓΙΚΗ ΕΤΑΙΡΕΙΑ ΒΟΡΕΙΟΥ ΕΛΛΑΔΟΣ \nΕπαγγελματίας Οργανωτής: Global Events \nΤηλέφωνο : 2310247743 \nEmail : info@globalevents.gr \nWebsite : www.globalevents.gr
URL:https://iatrikostypos.com/event/cardiovascular-mri-amp-ct-with-clinical-correlation-learn-from-the-experts-hands-on-training-and-lecture/
CATEGORIES:Διάφορα,ΣΥΝΕΔΡΙΑ
ATTACH;FMTTYPE=image/png:https://iatrikostypos.com/wp-content/uploads/2018/09/cardiovascular-MRI.png
ORGANIZER;CN="Global Events":MAILTO:info@globalevents.gr
END:VEVENT
BEGIN:VEVENT
DTSTART;VALUE=DATE:20180927
DTEND;VALUE=DATE:20180930
DTSTAMP:20260419T175423
CREATED:20180919T091025Z
LAST-MODIFIED:20180919T091120Z
UID:2793-1538006400-1538265599@iatrikostypos.com
SUMMARY:16o Ευρωπαϊκό Σεμινάριο Κολποσκόπησης & Παθολογίας Τραχήλου
DESCRIPTION:16o Ευρωπαϊκό Σεμινάριο Κολποσκόπησης & Παθολογίας Τραχήλου \n27/09/2018 – 29/09/2018 \nΑθήνα \nΕπιστημονική Εταιρεία / Φορέας :Ελληνική Εταιρεία Γυναικολογικής Ογκολογίας \nΕπαγγελματίας Οργανωτής: MDcongress \nΤηλέφωνο : 2106074240 \nEmail : md@mdcongress.gr \nWebsite : www.athensefc2018.mdcongress.gr
URL:https://iatrikostypos.com/event/16o-eyropaiko-seminario-kolposkopisis-amp-pathologias-trachiloy/
CATEGORIES:Διάφορα
ATTACH;FMTTYPE=image/png:https://iatrikostypos.com/wp-content/uploads/2018/09/16o-seminario-kolposkopishs.png
ORGANIZER;CN="MDcongress":MAILTO:md@mdcongress.gr
END:VEVENT
BEGIN:VEVENT
DTSTART;VALUE=DATE:20180925
DTEND;VALUE=DATE:20180928
DTSTAMP:20260419T175423
CREATED:20180919T083539Z
LAST-MODIFIED:20180919T083549Z
UID:2790-1537833600-1538092799@iatrikostypos.com
SUMMARY:35th Balkan Medical Week – 35ο Βαλκανικό Ιατρικό Συνέδριο
DESCRIPTION:35th Balkan Medical Week – 35ο Βαλκανικό Ιατρικό Συνέδριο \n25/09/2018 – 27/09/2018 \nAthinais Hotel\, Αθήνα \nΕπιστημονική Εταιρεία / Φορέας : Balkan Medical Union – Βαλκανική Ιατρική Ένωση \nΕπαγγελματίας Οργανωτής: Hellenic Section – Ελληνικό Παράρτημα \nEmail : bmuhellenic@gmail.com \nWebsite : https://35th-balkan-medical-week3.webnode.gr/
URL:https://iatrikostypos.com/event/35th-balkan-medical-week-35o-valkaniko-iatriko-synedrio/
CATEGORIES:Διάφορα
ATTACH;FMTTYPE=image/png:https://iatrikostypos.com/wp-content/uploads/2018/09/35th-balkan-mediacal-week-e1537346099215.png
END:VEVENT
BEGIN:VEVENT
DTSTART;VALUE=DATE:20180923
DTEND;VALUE=DATE:20180927
DTSTAMP:20260419T175423
CREATED:20180919T082631Z
LAST-MODIFIED:20180919T082631Z
UID:2787-1537660800-1538006399@iatrikostypos.com
SUMMARY:21st ESCV – European Society for Clinical Virology
DESCRIPTION:21st ESCV – European Society for Clinical Virology \n23/09/2018 – 26/09/2018 \nΖΑΠΠΕΙΟΝ ΜΕΓΑΡΟΝ\, Αθήνα \nΕπαγγελματίας Οργανωτής: Free Spirit- Τηλ.: 210 6048260\, 210 6047476- Fax.: 210 6047457-email: info@free-spirit.gr \nΤηλέφωνο : 210 6048260\, 210 6047476
URL:https://iatrikostypos.com/event/21st-escv-european-society-for-clinical-virology-2/
CATEGORIES:Διάφορα
ATTACH;FMTTYPE=image/png:https://iatrikostypos.com/wp-content/uploads/2018/09/11111.png
END:VEVENT
BEGIN:VEVENT
DTSTART;VALUE=DATE:20180923
DTEND;VALUE=DATE:20180927
DTSTAMP:20260419T175423
CREATED:20180918T123800Z
LAST-MODIFIED:20180918T130056Z
UID:2767-1537660800-1538006399@iatrikostypos.com
SUMMARY:21st ESCV – European Society for Clinical Virology
DESCRIPTION:21st ESCV – European Society for Clinical Virology \n23/09/2018 – 26/09/2018 \nΖΑΠΠΕΙΟΝ ΜΕΓΑΡΟΝ\, Αθήνα \nΕπαγγελματίας Οργανωτής: Free Spirit- Τηλ.: 210 6048260\, 210 6047476- Fax.: 210 6047457-email: info@free-spirit.gr \nΤηλέφωνο : 210 6048260\, 210 6047476
URL:https://iatrikostypos.com/event/21st-escv-european-society-for-clinical-virology/
CATEGORIES:Διάφορα
ATTACH;FMTTYPE=image/png:https://iatrikostypos.com/wp-content/uploads/2018/09/11111.png
END:VEVENT
BEGIN:VEVENT
DTSTART;TZID=Europe/Helsinki:20180922T080000
DTEND;TZID=Europe/Helsinki:20180922T220000
DTSTAMP:20260419T175423
CREATED:20180326T140817Z
LAST-MODIFIED:20180326T140817Z
UID:1276-1537603200-1537653600@iatrikostypos.com
SUMMARY:Επιστημονική Ημερίδα «Σακχαρώδης Διαβήτης Τύπου 2: Κλινικές Εφαρμογές στην Πρωτοβάθμια Φροντίδα Υγείας»
DESCRIPTION: 22 Σεπτεμβρίου 2018 – Ορεστιάδα – Πολιτιστικό Πολυκέντρο Δήμου Ορεστιάδας  \nΔιαβητολογικό Κέντρο Β’ Παθολογικής Κλινικής του ΔΠΘ – Κέντρο Υγείας Ορεστιάδας Ορεστιάδα 
URL:https://iatrikostypos.com/event/epistimoniki-imerida-sakcharodis-diavitis-typoy-2-klinikes-efarmoges-stin-protovathmia-frontida-ygeias/
CATEGORIES:Διάφορα,ΣΥΝΕΔΡΙΑ
END:VEVENT
BEGIN:VEVENT
DTSTART;TZID=Europe/Helsinki:20180921T080000
DTEND;TZID=Europe/Helsinki:20180923T220000
DTSTAMP:20260419T175423
CREATED:20180326T140622Z
LAST-MODIFIED:20180326T140622Z
UID:1274-1537516800-1537740000@iatrikostypos.com
SUMMARY:Εκπαιδευτικό Σεμινάριο – Σύγχρονες Απόψεις στην Κλινική Διαχείριση των Παραγόντων Καρδιαγγειακού Κινδύνου
DESCRIPTION:21/09/2018 – 23/09/2018 – Ξενοδοχείο Xenia Poros Image – Πόρος \nΕλληνική Εταιρεία Καρδιαγγειακής Προστασίας
URL:https://iatrikostypos.com/event/ekpaideytiko-seminario-sygchrones-apopseis-stin-kliniki-diacheirisi-ton-paragonton-kardiaggeiakoy-kindynoy/
CATEGORIES:Διάφορα,ΣΥΝΕΔΡΙΑ
END:VEVENT
BEGIN:VEVENT
DTSTART;TZID=Europe/Helsinki:20180920T080000
DTEND;TZID=Europe/Helsinki:20180923T220000
DTSTAMP:20260419T175423
CREATED:20180326T135953Z
LAST-MODIFIED:20180326T135953Z
UID:1272-1537430400-1537740000@iatrikostypos.com
SUMMARY:5th Aegean Hematology – Oncology Symposium (AHOS 2018)
DESCRIPTION: 20 – 23 Σεπτεμβρίου 2018 – Πόρτο Χέλι – Ξενοδοχείο AKS Πόρτο Χέλι  \nΙατρική Εταιρεία Αθηνών
URL:https://iatrikostypos.com/event/5th-aegean-hematology-oncology-symposium-ahos-2018/
CATEGORIES:Διάφορα,ΣΥΝΕΔΡΙΑ
END:VEVENT
BEGIN:VEVENT
DTSTART;TZID=Europe/Helsinki:20180918T080000
DTEND;TZID=Europe/Helsinki:20180919T220000
DTSTAMP:20260419T175423
CREATED:20180326T134058Z
LAST-MODIFIED:20180326T134058Z
UID:1266-1537257600-1537394400@iatrikostypos.com
SUMMARY:39th AIVC Conference «Smart Ventilation for buildings» – 7th TightVent Conference – 5th Venticool Conference
DESCRIPTION: 18 – 19 September 2018 – Antibes Juan-les-Pins\, Conference Centre – France  \n39th AIVC Conference «Smart Ventilation for buildings» – 7th TightVent Conference – 5th Venticool Conference CETIAT\, ADEME\, INIVE Antibes Juan-les-Pins
URL:https://iatrikostypos.com/event/39th-aivc-conference-smart-ventilation-for-buildings-7th-tightvent-conference-5th-venticool-conference/
CATEGORIES:Διάφορα,ΣΥΝΕΔΡΙΑ
END:VEVENT
END:VCALENDAR