BEGIN:VCALENDAR
VERSION:2.0
PRODID:-//Iatrikostypos.com - ECPv6.15.16//NONSGML v1.0//EN
CALSCALE:GREGORIAN
METHOD:PUBLISH
X-WR-CALNAME:Iatrikostypos.com
X-ORIGINAL-URL:https://iatrikostypos.com
X-WR-CALDESC:Events for Iatrikostypos.com
REFRESH-INTERVAL;VALUE=DURATION:PT1H
X-Robots-Tag:noindex
X-PUBLISHED-TTL:PT1H
BEGIN:VTIMEZONE
TZID:Europe/Helsinki
BEGIN:DAYLIGHT
TZOFFSETFROM:+0200
TZOFFSETTO:+0300
TZNAME:EEST
DTSTART:20170326T010000
END:DAYLIGHT
BEGIN:STANDARD
TZOFFSETFROM:+0300
TZOFFSETTO:+0200
TZNAME:EET
DTSTART:20171029T010000
END:STANDARD
BEGIN:DAYLIGHT
TZOFFSETFROM:+0200
TZOFFSETTO:+0300
TZNAME:EEST
DTSTART:20180325T010000
END:DAYLIGHT
BEGIN:STANDARD
TZOFFSETFROM:+0300
TZOFFSETTO:+0200
TZNAME:EET
DTSTART:20181028T010000
END:STANDARD
BEGIN:DAYLIGHT
TZOFFSETFROM:+0200
TZOFFSETTO:+0300
TZNAME:EEST
DTSTART:20190331T010000
END:DAYLIGHT
BEGIN:STANDARD
TZOFFSETFROM:+0300
TZOFFSETTO:+0200
TZNAME:EET
DTSTART:20191027T010000
END:STANDARD
END:VTIMEZONE
BEGIN:VEVENT
DTSTART;TZID=Europe/Helsinki:20180420T080000
DTEND;TZID=Europe/Helsinki:20180421T220000
DTSTAMP:20260420T064822
CREATED:20180316T135108Z
LAST-MODIFIED:20180316T135108Z
UID:947-1524211200-1524348000@iatrikostypos.com
SUMMARY:Tracheomalacia and bronchomalacia in children\, TF Meeting
DESCRIPTION:Tracheomalacia and bronchomalacia in children\, TF Meeting \n20/04/2018-21/04/2018 \nHotel Electra Palace \nΑθήνα \nΕπαγγελματίας Οργανωτής : Συνέδρα – Τηλ: 2610-432200-info@synedra.gr
URL:https://iatrikostypos.com/event/tracheomalacia-and-bronchomalacia-in-children-tf-meeting/
CATEGORIES:Διάφορα,Παιδιατρικό,ΣΥΝΕΔΡΙΑ
END:VEVENT
BEGIN:VEVENT
DTSTART;TZID=Europe/Helsinki:20180420T080000
DTEND;TZID=Europe/Helsinki:20180421T220000
DTSTAMP:20260420T064822
CREATED:20180316T133742Z
LAST-MODIFIED:20180316T141826Z
UID:935-1524211200-1524348000@iatrikostypos.com
SUMMARY:Συνέδριο Γυναίκα & Καρκίνος: Από την πρόληψη στη θεραπεία
DESCRIPTION:Συνέδριο Γυναίκα & Καρκίνος: Από την πρόληψη στη θεραπεία \n20/04/2018 – 21/04/2018 \nΣυνεδριακό και Πολιτιστικό Κέντρο του Πανεπιστημίου Πατρών \nΠάτρα \nΕπιστημονική Εταιρεία / Φορέας :Ελληνική Εταιρεία Γηριατρικής Ογκολογίας \nΕπαγγελματίας Οργανωτής : ETS Events & Travel Solutions Α.Ε. \nΤηλέφωνο : +30 210 98 80 032\, Email : ets@events.gr\, Website : www.events.gr
URL:https://iatrikostypos.com/event/synedrio-gynaika-karkinos-apo-tin-prolipsi-sti-therapeia/
CATEGORIES:Γυναικολογικά,Διάφορα,Ογκολογικό,ΣΥΝΕΔΡΙΑ
END:VEVENT
BEGIN:VEVENT
DTSTART;TZID=Europe/Helsinki:20180420T080000
DTEND;TZID=Europe/Helsinki:20180421T220000
DTSTAMP:20260420T064822
CREATED:20180316T133533Z
LAST-MODIFIED:20180316T133533Z
UID:933-1524211200-1524348000@iatrikostypos.com
SUMMARY:Εκπαιδευτική Διημερίδα Ελληνικής Αγγειολογικής Εταιρείας και Ελληνικής Φλεβολογικής Εταιρείας
DESCRIPTION:Εκπαιδευτική Διημερίδα Ελληνικής Αγγειολογικής Εταιρείας και Ελληνικής Φλεβολογικής Εταιρείας \n20/04/2018 – 21/04/2018 \nAmalia Hotel \nΝαύπλιο \nΕπαγγελματίας Οργανωτής  : ERA \nΤηλέφωνο : 2103634944\, Email : info@era.gr\, Website : www.era.gr
URL:https://iatrikostypos.com/event/933/
CATEGORIES:Διάφορα,ΣΥΝΕΔΡΙΑ
END:VEVENT
BEGIN:VEVENT
DTSTART;TZID=Europe/Helsinki:20180420T080000
DTEND;TZID=Europe/Helsinki:20180421T220000
DTSTAMP:20260420T064822
CREATED:20180316T133037Z
LAST-MODIFIED:20180316T133037Z
UID:929-1524211200-1524348000@iatrikostypos.com
SUMMARY:Αιματολογία: Νεότερες προσεγγίσεις στη διάγνωση και θεραπεία
DESCRIPTION:Αιματολογία: Νεότερες προσεγγίσεις στη διάγνωση και θεραπεία \n20/04/2018 – 21/04/2018 \nΒυζαντινό και Χριστιανικό Μουσείο \nΑθήνα \nΕπιστημονική Εταιρεία / Φορέας :Ελληνική Εταιρεία Δεικτών Καρκίνου και Στοχευμένης Θεραπείας \nΠληροφορίες: Τηλέφωνο : 2107231570
URL:https://iatrikostypos.com/event/aimatologia-neoteres-proseggiseis-sti-diagnosi-kai-therapeia/
CATEGORIES:Διάφορα,ΣΥΝΕΔΡΙΑ
END:VEVENT
BEGIN:VEVENT
DTSTART;TZID=Europe/Helsinki:20180420T080000
DTEND;TZID=Europe/Helsinki:20180421T220000
DTSTAMP:20260420T064822
CREATED:20180316T132852Z
LAST-MODIFIED:20180316T132852Z
UID:927-1524211200-1524348000@iatrikostypos.com
SUMMARY:Εαρινό Σχολείο Αιματολογίας του Ιδρύματος Ε.Α.Ε. "Ιατρική Ακριβείας στην Αιματολογία-Νέα Φάρμακα\, Νέες Προκλήσεις για τον Κλινικό Γιατρό"
DESCRIPTION:Εαρινό Σχολείο Αιματολογίας του Ιδρύματος Ε.Α.Ε. “Ιατρική Ακριβείας στην Αιματολογία-Νέα Φάρμακα\, Νέες Προκλήσεις για τον Κλινικό Γιατρό” \n20/04/2018 – 21/04/2018 \nΞενοδοχείο Astir Egnatia \nΑλεξανδρούπολη \nΕπιστημονική Εταιρεία : Ίδρυμα Ελληνικής Αιματολογικής Εταιρείας \nΕπαγγελματίας Οργανωτής : Vita Congress– Τηλ.: 210-72 54 360- e-mail: info@vitacongress.gr
URL:https://iatrikostypos.com/event/earino-scholeio-aimatologias-toy-idrymatos-e-a-e-iatriki-akriveias-stin-aimatologia-nea-farmaka-nees-prokliseis-gia-ton-kliniko-giatro/
CATEGORIES:Διάφορα,ΣΥΝΕΔΡΙΑ
END:VEVENT
BEGIN:VEVENT
DTSTART;TZID=Europe/Helsinki:20180418T080000
DTEND;TZID=Europe/Helsinki:20180418T220000
DTSTAMP:20260420T064822
CREATED:20180326T095925Z
LAST-MODIFIED:20180326T100145Z
UID:1213-1524038400-1524088800@iatrikostypos.com
SUMMARY:Ι.Μ.Ε.Θ.Α Webinars 2018 – “Excellence in Thrombosis”
DESCRIPTION: 18/04/2018 – Ι.Μ.Ε.Θ.Α Webinars 2018 – “Excellence in Thrombosis”  \nΙ.Μ.Ε.Θ.Α Webinars 2018 – “Excellence in Thrombosis” Σ. Σουρμελής Διευθυντής Β’ Ορθοπαιδικής Κλινικής\, Διαγνωστικό και Θεραπευτικό Κέντρο Αθηνών “ΥΓΕΙΑ” Σύγχρονη αντιθρομβωτική αγωγή στη φλεβική θρομβοεμβολική νόσο
URL:https://iatrikostypos.com/event/i-m-e-th-a-webinars-2018-excellence-in-thrombosis-2/
CATEGORIES:Διάφορα,ΣΥΝΕΔΡΙΑ,Υπέρταση
END:VEVENT
BEGIN:VEVENT
DTSTART;TZID=Europe/Helsinki:20180414T080000
DTEND;TZID=Europe/Helsinki:20180415T220000
DTSTAMP:20260420T064822
CREATED:20180316T132123Z
LAST-MODIFIED:20180316T132123Z
UID:921-1523692800-1523829600@iatrikostypos.com
SUMMARY:HPV & Βιοδείκτες στην Μαιευτική & Γυναικολογία Νο 4
DESCRIPTION:HPV & Βιοδείκτες στην Μαιευτική & Γυναικολογία Νο 4 \n14/04/2018 – 15/04/2018 \nΚεντρικό Αμφιθέατρο «Ιπποκράτης» Τμήματος Ιατρικής \nΛάρισα \nΕπιστημονική Εταιρεία : Ελληνική Εταιρεία Γυναικολογικής Ογκολογίας σε συνεργασία με την Μαιευτική & Γυναικολογική Κλινική Πανεπιστημίου Θεσσαλίας \nΕπαγγελματίας Οργανωτής : MD Congress – Τηλ.: 210 6074200 – Fax: 210 6074222 -email: md@mdcongress.gr \nSite: http://www.mdcongress.gr/
URL:https://iatrikostypos.com/event/hpv-viodeiktes-stin-maieytiki-gynaikologia-no-4/
CATEGORIES:Γυναικολογικά,Διάφορα,ΣΥΝΕΔΡΙΑ
END:VEVENT
BEGIN:VEVENT
DTSTART;TZID=Europe/Helsinki:20180414T080000
DTEND;TZID=Europe/Helsinki:20180414T220000
DTSTAMP:20260420T064822
CREATED:20180326T095348Z
LAST-MODIFIED:20180326T095348Z
UID:1211-1523692800-1523743200@iatrikostypos.com
SUMMARY:Ετήσια Σεμινάρια Μελέτης της Υπέρτασης 2017 – 2018
DESCRIPTION:14 Απριλίου 2018 Αθήνα – Ξενοδοχείο Divani Caravel & Θεσσαλονίκη – ΚΕΔΕΑ ΑΠΘ  \n Ελληνική Εταιρεία Υπέρτασης 14/04/2018
URL:https://iatrikostypos.com/event/etisia-seminaria-meletis-tis-ypertasis-2017-2018/
CATEGORIES:Διάφορα,ΣΥΝΕΔΡΙΑ,Υπέρταση
END:VEVENT
BEGIN:VEVENT
DTSTART;TZID=Europe/Helsinki:20180413T080000
DTEND;TZID=Europe/Helsinki:20180415T220000
DTSTAMP:20260420T064822
CREATED:20180326T090826Z
LAST-MODIFIED:20180326T090826Z
UID:1209-1523606400-1523829600@iatrikostypos.com
SUMMARY:5ο Πανελλήνιο Συνέδριο – Σύγχρονες απόψεις στην κλινική διαχείριση των παραγόντων καρδιαγγειακού κινδύνου
DESCRIPTION:Ναύπακτος – Ξενοδοχείο NAFS  \nΕλληνική Εταιρεία Καρδιαγγειακής Προστασίας
URL:https://iatrikostypos.com/event/5o-panellinio-synedrio-sygchrones-apopseis-stin-kliniki-diacheirisi-ton-paragonton-kardiaggeiakoy-kindynoy/
CATEGORIES:Διάφορα,Καρδιολογικο,ΣΥΝΕΔΡΙΑ
END:VEVENT
BEGIN:VEVENT
DTSTART;TZID=Europe/Helsinki:20180413T080000
DTEND;TZID=Europe/Helsinki:20180415T220000
DTSTAMP:20260420T064822
CREATED:20180316T131102Z
LAST-MODIFIED:20180316T131102Z
UID:914-1523606400-1523829600@iatrikostypos.com
SUMMARY:4ο Επιστημονικό Συμπόσιο “Η Δράμα ενάντια στον καρκίνο”
DESCRIPTION:4ο Επιστημονικό Συμπόσιο “Η Δράμα ενάντια στον καρκίνο” \n13/04/2018 – 15/04/2018 \nΞενοδοχείο Kouros \nΔράμα \nΕπιστημονική Εταιρεία / Φορέας :Ελληνική Επιστημονική Εταιρεία “Η Δράμα ενάντια στον καρκίνο” \nΕπαγγελματίας Οργανωτής : ERA \nΤηλέφωνο : 2103634944\, Email : info@era.gr\, Website : www.era.gr
URL:https://iatrikostypos.com/event/4o-epistimoniko-symposio-i-drama-enantia-ston-karkino/
CATEGORIES:Διάφορα,Ογκολογικό,ΣΥΝΕΔΡΙΑ
END:VEVENT
BEGIN:VEVENT
DTSTART;TZID=Europe/Helsinki:20180413T080000
DTEND;TZID=Europe/Helsinki:20180415T220000
DTSTAMP:20260420T064822
CREATED:20180316T130818Z
LAST-MODIFIED:20180316T130818Z
UID:912-1523606400-1523829600@iatrikostypos.com
SUMMARY:4ο Πανελλήνιο Συνέδριο Γενικής Χειρουργικής
DESCRIPTION:4ο Πανελλήνιο Συνέδριο Γενικής Χειρουργικής \n13/04/2018 – 15/04/2018 \nΞενοδοχείο Astir Egnatia \nΑλεξανδρούπολη \nΕπιστημονική Εταιρεία : Επαγγελματική Ένωση Γενικών Χειρούργων Ελλάδος \nΕπαγγελματίας Οργανωτής : GLOBAL EVENTS \nΤηλέφωνο : 2310 247743\, 2310 247745\, Email : info@globalevents.gr
URL:https://iatrikostypos.com/event/4o-panellinio-synedrio-genikis-cheiroyrgikis/
CATEGORIES:Γενικής Χειρουργικής,Διάφορα,ΣΥΝΕΔΡΙΑ
END:VEVENT
BEGIN:VEVENT
DTSTART;TZID=Europe/Helsinki:20180413T080000
DTEND;TZID=Europe/Helsinki:20180414T220000
DTSTAMP:20260420T064822
CREATED:20180316T131649Z
LAST-MODIFIED:20180412T171104Z
UID:918-1523606400-1523743200@iatrikostypos.com
SUMMARY:Συνέδριο με θέμα: καθ’ οδόν προς τον βέλτιστο θεραπευτικό συντελεστή στην ογκολογία
DESCRIPTION:Συνέδριο με θέμα: καθ’ οδόν προς τον βέλτιστο θεραπευτικό συντελεστή στην ογκολογία \n13/04/2018 – 14/04/2018 \nΞενοδοχείο Athens Hilton \nΑΘΗΝΑ \nΕπιστημονική Εταιρεία / Φορέας :Επιστημονική Εταιρεία “Καρκίνος: Εκπαίδευση\, Έρευνα & Κλινική Πράξη” \nΕπαγγελματίας Οργανωτής :  ETS \, E-mail: ets@events.gr\, Τηλέφωνο: +30 210 9880032
URL:https://iatrikostypos.com/event/synedrio-me-thema-kath-odon-pros-ton-veltisto-therapeytiko-syntelesti-stin-ogkologia/
CATEGORIES:Διάφορα,Ογκολογικό,ΣΥΝΕΔΡΙΑ
END:VEVENT
BEGIN:VEVENT
DTSTART;TZID=Europe/Helsinki:20180413T080000
DTEND;TZID=Europe/Helsinki:20180414T220000
DTSTAMP:20260420T064822
CREATED:20180316T131415Z
LAST-MODIFIED:20180316T131415Z
UID:916-1523606400-1523743200@iatrikostypos.com
SUMMARY:7ο Επιστημονικό Συνέδριο Ιατρικού Τμήματος Α.Π.Θ.
DESCRIPTION:7ο Επιστημονικό Συνέδριο Ιατρικού Τμήματος Α.Π.Θ. \n13/04/2018 – 14/04/2018 \nΚέντρο Διάδοσης Ερευνητικών Αποτελεσμάτων ΑΠΘ (ΚΕΔΕΑ) \nΘΕΣΣΑΛΟΝΙΚΗ \nΕπιστημονική Εταιρεία / Φορέας : Τμήμα Ιατρικής Σχολής Α.Π.Θ. \nΕπαγγελματίας Οργανωτής : MEDEVENTS \nΤηλέφωνο : 2118002770\, Email : info@medevents.gr\, Website: www.medevents.gr/congress/iatriki18
URL:https://iatrikostypos.com/event/7o-epistimoniko-synedrio-iatrikoy-tmimatos-a-p-th/
CATEGORIES:Διάφορα,ΣΥΝΕΔΡΙΑ
END:VEVENT
BEGIN:VEVENT
DTSTART;TZID=Europe/Helsinki:20180413T080000
DTEND;TZID=Europe/Helsinki:20180414T220000
DTSTAMP:20260420T064822
CREATED:20180316T130602Z
LAST-MODIFIED:20180316T130602Z
UID:910-1523606400-1523743200@iatrikostypos.com
SUMMARY:33ο ΣΥΝΕΔΡΙΟ ΚΛΙΝΙΚΗΣ ΚΑΡΔΙΟΛΟΓΙΑΣ
DESCRIPTION:33ο ΣΥΝΕΔΡΙΟ ΚΛΙΝΙΚΗΣ ΚΑΡΔΙΟΛΟΓΙΑΣ \n13/04/2018 – 14/04/2018 \nΞενοδοχείο DIVANI CARAVEL \nΑΘΗΝΑ \nΕπιστημονική Εταιρεία / Φορέας :ΕΛΛΗΝΙΚΟ ΙΔΡΥΜΑ ΚΑΡΔΙΟΛΟΓΙΑΣ \nΕπαγγελματίας Οργανωτής: GLOBAL EVENTS \nΤηλέφωνο : 2310 247743\, 2310 247745\, Email : info@globalevents.gr
URL:https://iatrikostypos.com/event/33o-synedrio-klinikis-kardiologias/
CATEGORIES:Διάφορα,Καρδιολογικο,ΣΥΝΕΔΡΙΑ
END:VEVENT
BEGIN:VEVENT
DTSTART;TZID=Europe/Helsinki:20180412T080000
DTEND;TZID=Europe/Helsinki:20180415T220000
DTSTAMP:20260420T064822
CREATED:20180316T130348Z
LAST-MODIFIED:20180406T115944Z
UID:908-1523520000-1523829600@iatrikostypos.com
SUMMARY:Ετήσιο Εκπαιδευτικό Σεμινάριο «Ημέρες Πνευμονολογίας 2018»
DESCRIPTION:Ετήσιο Εκπαιδευτικό Σεμινάριο «Ημέρες Πνευμονολογίας 2018» \n12/04/2018 – 15/04/2018 \nΞενοδοχείο Larissa Imperial \nΛάρισα \nΕπιστημονική Εταιρεία : Εταιρεία Αναπνευστικών Διαταραχών και Βαριάς Νόσου \nΕπαγγελματίας Οργανωτής : Congress World– Τηλ.: 2107210001-2107210052 – Fax.: 2107210051- e-mail: info@congressworld.gr
URL:https://iatrikostypos.com/event/etisio-ekpaideytiko-seminario-imeres-pneymonologias-2018/
CATEGORIES:Διάφορα,Πνευμονολογικό,ΣΥΝΕΔΡΙΑ
ATTACH;FMTTYPE=image/jpeg:https://iatrikostypos.com/wp-content/uploads/2018/03/ημερεσ-πνευμονιολογιασ2018.jpg
END:VEVENT
BEGIN:VEVENT
DTSTART;TZID=Europe/Helsinki:20180412T080000
DTEND;TZID=Europe/Helsinki:20180415T220000
DTSTAMP:20260420T064822
CREATED:20180316T130003Z
LAST-MODIFIED:20180316T130003Z
UID:903-1523520000-1523829600@iatrikostypos.com
SUMMARY:7ο ΠΑΝΕΛΛΗΝΙΟ ΣΥΝΕΔΡΙΟ ΚΛΙΝΙΚΗΣ ΨΥΧΟΦΑΡΜΑΚΟΛΟΓΙΑΣ
DESCRIPTION:7ο ΠΑΝΕΛΛΗΝΙΟ ΣΥΝΕΔΡΙΟ ΚΛΙΝΙΚΗΣ ΨΥΧΟΦΑΡΜΑΚΟΛΟΓΙΑΣ \n12/04/2018 – 15/04/2018 \nAnargyrios and Korgialenios School of Spetses \nΣπέτσες \nΕπιστημονική Εταιρεία / Φορέας :ΕΛΛΗΝΙΚΗ ΕΤΑΙΡΕΙΑ ΚΛΙΝΙΚΗΣ ΨΥΧΟΦΑΡΜΑΚΟΛΟΓΙΑΣ \nΕπαγγελματίας Οργανωτής / PCO : ONE TO ONE \nΤηλέφωνο : 6972205989\, Email : chatzioa@gmail.com \nWebsite : www.elepsy.gr/el/
URL:https://iatrikostypos.com/event/7o-panellinio-synedrio-klinikis-psychofarmakologias/
CATEGORIES:Διάφορα,ΣΥΝΕΔΡΙΑ,Ψυχιατρικό
END:VEVENT
BEGIN:VEVENT
DTSTART;TZID=Europe/Helsinki:20180412T080000
DTEND;TZID=Europe/Helsinki:20180415T220000
DTSTAMP:20260420T064822
CREATED:20180316T125053Z
LAST-MODIFIED:20180316T125053Z
UID:895-1523520000-1523829600@iatrikostypos.com
SUMMARY:3o Πανελλήνιο Συνέδριο Γενικής Οικογενειακής Ιατρικής
DESCRIPTION:3o  Πανελλήνιο Συνέδριο Γενικής Οικογενειακής Ιατρικής \n12/04/2018 – 15/04/2018 \nΞενοδοχείο Grand Hotel Palace \nΘεσσαλονίκη \nΕπιστημονική Εταιρεία : Ελληνική Εταιρεία Γενικής Οικογενειακής Ιατρικής \nΕπαγγελματίας Οργανωτής : Vita Congress- Τηλ.: 210-72 54 360- e-mail: info@vitacongress.gr
URL:https://iatrikostypos.com/event/3o-panellinio-synedrio-genikis-oikogeneiakis-iatrikis/
CATEGORIES:Διάφορα,ΣΥΝΕΔΡΙΑ
END:VEVENT
BEGIN:VEVENT
DTSTART;TZID=Europe/Helsinki:20180412T080000
DTEND;TZID=Europe/Helsinki:20180414T220000
DTSTAMP:20260420T064822
CREATED:20180326T090406Z
LAST-MODIFIED:20180326T090406Z
UID:1207-1523520000-1523743200@iatrikostypos.com
SUMMARY:Ετήσιο Εκπαιδευτικό Σεμινάριο «Ημέρες Πνευμονολογίας 2018»
DESCRIPTION: 12 – 14 Απριλίου 2018 Λάρισα – Ξενοδοχείο Larissa Imperial  \nΕταιρεία Αναπνευστικών Διαταραχών και Βαριάς Νόσου
URL:https://iatrikostypos.com/event/etisio-ekpaideytiko-seminario-imeres-pneymonologias-2018-2/
CATEGORIES:Διάφορα,ΣΥΝΕΔΡΙΑ
END:VEVENT
BEGIN:VEVENT
DTSTART;TZID=Europe/Helsinki:20180412T080000
DTEND;TZID=Europe/Helsinki:20180414T220000
DTSTAMP:20260420T064822
CREATED:20180316T123938Z
LAST-MODIFIED:20180316T123938Z
UID:893-1523520000-1523743200@iatrikostypos.com
SUMMARY:37ο Ετήσιο Συνέδριο Ο.Τ.Ε.ΜΑ.Θ.
DESCRIPTION:37ο Ετήσιο Συνέδριο Ο.Τ.Ε.ΜΑ.Θ. \n12/04/2018 – 14/04/2018 \nΞενοδοχείο Nikopolis Θεσσαλονίκη \nΠόλη : Θεσσαλονίκη \nΕπιστημονική Εταιρεία / Φορέας :ΟΤΕΜΑΘ \nΕπαγγελματίας Οργανωτής : Premium Events \nΤηλέφωνο : 2310 226250\, Email : conference1@premium-events.gr\, www.otemath2018.gr/
URL:https://iatrikostypos.com/event/37o-etisio-synedrio-o-t-e-ma-th/
CATEGORIES:Διάφορα,ΣΥΝΕΔΡΙΑ
END:VEVENT
BEGIN:VEVENT
DTSTART;TZID=Europe/Helsinki:20180330T080000
DTEND;TZID=Europe/Helsinki:20180331T170000
DTSTAMP:20260420T064822
CREATED:20180329T101536Z
LAST-MODIFIED:20180329T101636Z
UID:1338-1522396800-1522515600@iatrikostypos.com
SUMMARY:1o Συνέδριο Ελληνικής Εταιρείας Παρακλίνιου Διαγνωστικού Έλεγχου
DESCRIPTION:Το 1ο Ετήσιο Συνέδριο με θέμα «Παρακλίνιος Διαγνωστικός Έλεγχος. Η δύναμη και η δυναμική μίας σημαντικής καινοτομίας στο χώρο της Υγείας»\, διοργανώνει την Παρασκευή 30 και το Σάββατο 31 Μαρτίου 2018\, στο αμφιθέατρο του «Ερρίκος Ντυνάν Hospital center» η Ελληνική Εταιρεία Παρακλίνιου Διαγνωστικού Ελέγχου (Ε.Ε.Πα.Δ.Ε). \n\n \nΤο Συνέδριο\, στο πλαίσιο της Συνεχιζόμενης Εκπαίδευσης των Επαγγελματιών Υγείας\, πραγματοποιείται υπό την Αιγίδα:\n\nτoυ Ιατρικού Συλλόγου Αθηνών\nτης Ελληνικής Εταιρείας Μελέτης Εφαρμογών Πληροφορικής στην Υγεία\nτης Ελληνικής Εταιρείας Διάδοσης Ιπποκράτειου Πνεύματος\nτης Ένωσης Νοσηλευτών Ελλάδος\n\nΣτους συμμετέχοντες θα χορηγηθούν:\n\n13 Μόρια Συνεχιζόμενης Ιατρικής Εκπαίδευσης (CME Credits) από τον Πανελλήνιο Ιατρικό Σύλλογο (ΠΙΣ)\,\n12 Μόρια Συνεχιζόμενης Νοσηλευτικής Εκπαίδευσης από την Ε.Ν.Ε\,\nβεβαιώσεις συμμετοχής.\n\nΣτο πλαίσιο του Συνεδρίου\, κορυφαίοι επιστήμονες από την Ελλάδα και το εξωτερικό θα αναπτύξουν το σημαντικό ρόλο των Παρακλίνιων Διαγνωστικών Συστημάτων (Point Of Care) και τη χρήση τους στο σύνολο των δομών παροχής υπηρεσιών υγείας. Εκτενέστερα\, θα αναλυθούν και θα παρουσιαστούν το πεδίο εφαρμογής τους από την Πρωτοβάθμια περίθαλψη έως τη Δευτεροβάθμια και την Τριτοβάθμια\, από τις μικρές αποκεντρωμένες δομές της περιφέρειας έως τις μεγάλες οργανωμένες μονάδες Υγείας των αστικών κέντρων και από την οικία των ασθενών έως τους οργανισμούς παροχής αμιγώς ιατρικών υπηρεσιών. Παράλληλα\, θα συζητηθούν οι προοπτικές συλλογής\, επεξεργασίας και αποθήκευσης των δεδομένων που παράγονται από τα Παρακλίνια Διαγνωστικά Συστήματα και τα οποία μέχρι σήμερα δεν υπόκεινται σε κανένα πλαίσιο διαχείρισης και προστασίας. \nΤέλος\, στο πλαίσιο των δύο κλινικών φροντιστηρίων θα δοθεί επιπλέον η δυνατότητα στους συμμετέχοντες να επεξεργαστούν και να χρησιμοποιήσουν πλήθος τέτοιων συστημάτων\, να τα «γνωρίσουν» και να εξοικειωθούν με αυτά.
URL:https://iatrikostypos.com/event/1o-synedrio-ellinikis-etaireias-paraklinioy-diagnostikoy-elegchoy/
CATEGORIES:Διάφορα
ATTACH;FMTTYPE=image/jpeg:https://iatrikostypos.com/wp-content/uploads/2018/03/εεπαδε.jpg
END:VEVENT
BEGIN:VEVENT
DTSTART;TZID=Europe/Helsinki:20180329T080000
DTEND;TZID=Europe/Helsinki:20180401T220000
DTSTAMP:20260420T064822
CREATED:20180305T142642Z
LAST-MODIFIED:20180305T142642Z
UID:574-1522310400-1522620000@iatrikostypos.com
SUMMARY:Εαριναί Παιδιατρικαί Ημέραι
DESCRIPTION:Εαριναί Παιδιατρικαί Ημέραι \n29/03/2018 – 01/04/2018 \nCineTitania\,  Σπέτσες \nΦορέας :ΜΕΣΟΓΕΙΑΚΗ ΑΚΑΔΗΜΙΑ ΓΙΑ ΤΗΝ ΙΑΤΡΙΚΗ ΚΑΙ ΤΗΝ ΤΕΧΝΗ \nΕπαγγελματίας Οργανωτής / PCO : Global Events\, Τηλέφωνο : 2310247743\, Email : info@globalevents.gr \nWebsite : www.globalevents.gr
URL:https://iatrikostypos.com/event/earinai-paidiatrikai-imerai/
CATEGORIES:Διάφορα,ΣΥΝΕΔΡΙΑ
END:VEVENT
BEGIN:VEVENT
DTSTART;TZID=Europe/Helsinki:20180329T080000
DTEND;TZID=Europe/Helsinki:20180331T220000
DTSTAMP:20260420T064822
CREATED:20180326T084637Z
LAST-MODIFIED:20180326T085951Z
UID:1197-1522310400-1522533600@iatrikostypos.com
SUMMARY:18ο Πανελλήνιο Συνέδριο Υπέρτασης
DESCRIPTION:Αθήνα\, Ξενοδοχείο Divani Caravel  \n18ο Πανελλήνιο Συνέδριο Υπέρτασης Αθήνα\, Ξενοδοχείο Divani Caravel Ελληνική Εταιρεία Υπέρτασης
URL:https://iatrikostypos.com/event/18o-panellinio-synedrio-ypertasis-2/
CATEGORIES:Διάφορα,ΣΥΝΕΔΡΙΑ
END:VEVENT
BEGIN:VEVENT
DTSTART;TZID=Europe/Helsinki:20180329T080000
DTEND;TZID=Europe/Helsinki:20180331T220000
DTSTAMP:20260420T064822
CREATED:20180319T183240Z
LAST-MODIFIED:20180319T183420Z
UID:1042-1522310400-1522533600@iatrikostypos.com
SUMMARY:18ο Πανελλήνιο Συνέδριο Υπέρτασης
DESCRIPTION:  \n18ο Πανελλήνιο Συνέδριο Υπέρτασης \nΕλληνική Εταιρεία Υπέρτασης \nΞενοδοχείο Divani Caravel\, Αθήνα \n29/03/2017 – 31/03/2018 \nΓραφείο Οργάνωσης: Congress World \nΤηλ.: 210 72 10001\, 210 72 10052\, 210-72 10025\, Fax: 210 72 10051\nwww.congressworld.gr\, e-mail: info@congressworld.gr \n18ο Πανελλήνιο Συνέδριο Υπέρτασης
URL:https://iatrikostypos.com/event/18o-panellinio-synedrio-ypertasis/
CATEGORIES:Διάφορα,ΣΥΝΕΔΡΙΑ
ATTACH;FMTTYPE=image/jpeg:https://iatrikostypos.com/wp-content/uploads/2018/03/18ο-Πανελλήνιο-Συνέδριο-Υπέρτασης.jpg
END:VEVENT
BEGIN:VEVENT
DTSTART;TZID=Europe/Helsinki:20180329T080000
DTEND;TZID=Europe/Helsinki:20180331T220000
DTSTAMP:20260420T064822
CREATED:20180305T142400Z
LAST-MODIFIED:20180305T142400Z
UID:572-1522310400-1522533600@iatrikostypos.com
SUMMARY:14ο Πανελλήνιο Συνέδριο της Ελληνικής Γεροντολογικής και Γηριατρικής Εταιρείας
DESCRIPTION:14ο Πανελλήνιο Συνέδριο της Ελληνικής Γεροντολογικής και Γηριατρικής Εταιρείας \n29/03/2018 – 31/03/2018 \nΞενοδοχείο Royal Olympic \nΕπιστημονική Εταιρεία: Ελληνική Γεροντολογική και Γηριατρική Εταιρεία \nΕπαγγελματίας Οργανωτής / PCO : Global Events\,Τηλέφωνο : 2310247743 \nEmail : dora@globalevents.gr\, Website : www.globalevents.gr
URL:https://iatrikostypos.com/event/14o-panellinio-synedrio-tis-ellinikis-gerontologikis-kai-giriatrikis-etaireias/
CATEGORIES:Διάφορα,ΣΥΝΕΔΡΙΑ
END:VEVENT
BEGIN:VEVENT
DTSTART;TZID=Europe/Helsinki:20180328T080000
DTEND;TZID=Europe/Helsinki:20180328T220000
DTSTAMP:20260420T064822
CREATED:20180326T082434Z
LAST-MODIFIED:20180326T082434Z
UID:1195-1522224000-1522274400@iatrikostypos.com
SUMMARY:Ι.Μ.Ε.Θ.Α Webinars 2018 – “Excellence in Thrombosis”
DESCRIPTION:Ι.Μ.Ε.Θ.Α Webinars 2018 – “Excellence in Thrombosis” Αντιθρομβωτική αγωγή στις παθήσεις των περιφερικών αρτηριών \n28/03/2018 \nΙατρική Σχολή Πανεπιστημίου Θεσσαλίας \nΙ.Μ.Ε.Θ.Α Webinars 2018 – “Excellence in Thrombosis” \nΜ. Ματσάγκας Kαθηγητής Αγγειοχειρουργικής \n 
URL:https://iatrikostypos.com/event/i-m-e-th-a-webinars-2018-excellence-in-thrombosis/
CATEGORIES:Διάφορα,ΣΥΝΕΔΡΙΑ
END:VEVENT
BEGIN:VEVENT
DTSTART;TZID=Europe/Helsinki:20180322T080000
DTEND;TZID=Europe/Helsinki:20180324T220000
DTSTAMP:20260420T064822
CREATED:20180305T135334Z
LAST-MODIFIED:20180305T135529Z
UID:558-1521705600-1521928800@iatrikostypos.com
SUMMARY:10th International Congress of Internal Medicine
DESCRIPTION:10th International Congress of Internal Medicine \n22 – 24/03/2018 \nRoyal Olympic Hotel\, Αθήνα \nΕπιστημονική Εταιρεία: Institute of Internal Medicine & Hepatology\, Larissa\, Department of Medicine and Research Laboratory of Internal Medicine University of Thessaly Medical School\, Larissa. \nΠληροφορίες : Συνεδριακή ΑΕ/ Conferre SA\, Τηλ.: 2651068610\, e–mail : info@conferre.gr\,  www.internalmedicine-uth.gr
URL:https://iatrikostypos.com/event/10th-international-congress-internal-medicine/
CATEGORIES:Διάφορα,ΣΥΝΕΔΡΙΑ
END:VEVENT
BEGIN:VEVENT
DTSTART;TZID=Europe/Helsinki:20180321T080000
DTEND;TZID=Europe/Helsinki:20180325T220000
DTSTAMP:20260420T064822
CREATED:20180305T135103Z
LAST-MODIFIED:20180305T135103Z
UID:556-1521619200-1522015200@iatrikostypos.com
SUMMARY:8ο Πανελλήνιο Συνέδριο Τραύματος & Επείγουσας Χειρουργικής
DESCRIPTION:8ο Πανελλήνιο Συνέδριο Τραύματος & Επείγουσας Χειρουργικής  \n21 – 25/03/2018 \nLarissa Imperial – Λάρισα \nΕπιστημονική Εταιρεία / Φορέας : Ελληνική Εταιρεία Τραύματος και Επείγουσας Χειρουργικής. \nΕπαγγελματίας Οργανωτής / PCO : Global Events. Τηλέφωνο : 2310247743
URL:https://iatrikostypos.com/event/8o-panellinio-synedrio-traymatos-epeigoysas-cheiroyrgikis/
CATEGORIES:Διάφορα,ΣΥΝΕΔΡΙΑ
END:VEVENT
BEGIN:VEVENT
DTSTART;TZID=Europe/Helsinki:20180319T080000
DTEND;TZID=Europe/Helsinki:20180323T213000
DTSTAMP:20260420T064822
CREATED:20180305T134809Z
LAST-MODIFIED:20180305T134809Z
UID:554-1521446400-1521840600@iatrikostypos.com
SUMMARY:12ο Πανελλήνιο Συνέδριο Δημόσιας Υγείας & Υπηρεσιών Υγείας
DESCRIPTION:12ο Πανελλήνιο Συνέδριο Δημόσιας Υγείας & Υπηρεσιών Υγείας \n19/03/2018 – 23/03/2018\nΞενοδοχείο Royal Olympic\,  Αθήνα \nΕπιστημονική Εταιρεία / Φορέας : Εθνική Σχολή Δημόσιας Υγείας\, Κέντρο Ελέγχου & Πρόληψης Νοσημάτων \nΕπαγγελματίας Οργανωτής / PCO : FREE SPIRIT\, Τηλέφωνο : 210 6048260\, 210 6047476
URL:https://iatrikostypos.com/event/12o-panellinio-synedrio-dimosias-ygeias-ypiresion-ygeias/
CATEGORIES:Διάφορα,ΣΥΝΕΔΡΙΑ
END:VEVENT
BEGIN:VEVENT
DTSTART;VALUE=DATE:20180317
DTEND;VALUE=DATE:20180318
DTSTAMP:20260420T064822
CREATED:20180309T133821Z
LAST-MODIFIED:20180309T133931Z
UID:791-1521244800-1521331199@iatrikostypos.com
SUMMARY:Περιγεννητικές Λοιμώξεις: από το Α εώς το Ω
DESCRIPTION:Η Α’ Μαιευτική και Γυναικολογική Κλινική του Εθνικού και Καποδιστριακού Πανεπιστημίου Αθηνών\, στα πλαίσια των επιστημονικών εκδηλώσεων που πραγματοποιεί με συγκεκριμένη θεματολογία και ανάλυση από το Α εώς το Ω\, διοργανώνει σε συνεργασία με την Ελληνική Εταιρεία Προγεννητικής Διάγνωσης και Θεραπείας του Εμβρύου\, την Ημερίδα με τίτλο «Περιγεννητικές Λοιμώξεις: από το Α εώς το Ω»\, το Σάββατο 17 Μαρτίου 2018\, στην Αθήνα. \nΔιακεκριμένοι Έλληνες επιστήμονες\, θα παρουσιάσουν τις νεότερες επιστημονικές εξελίξεις στις περιγεννητικές λοιμώξεις\, αναλύοντας το θέμα τόσο από την πλευρά των μαιευτήρων\, όσο και από την πλευρά των μαιών\, των νεογνολόγων-παιδιάτρων\, αλλά και των λοιπών εμπλεκομένων ειδικοτήτων. \n 
URL:https://iatrikostypos.com/event/perigennitikes-loimoxeis-apo-eos-o/
CATEGORIES:Διάφορα
ATTACH;FMTTYPE=image/jpeg:https://iatrikostypos.com/wp-content/uploads/2018/03/568x533_SYGGEN_LOIMO.jpg
END:VEVENT
BEGIN:VEVENT
DTSTART;TZID=Europe/Helsinki:20180316T080000
DTEND;TZID=Europe/Helsinki:20180318T220000
DTSTAMP:20260420T064822
CREATED:20180305T134128Z
LAST-MODIFIED:20180305T134128Z
UID:549-1521187200-1521410400@iatrikostypos.com
SUMMARY:12ο Διεθνές Συνέδριο της Αθλητιατρικής Εταιρείας Ελλάδος και 12ο Ελλαδο – Κυπριακό Συνέδριο
DESCRIPTION:12ο Διεθνές Συνέδριο της Αθλητιατρικής Εταιρείας Ελλάδος και 12ο Ελλαδο – Κυπριακό Συνέδριο \nΗμερομηνία : 16/03/2018 – 18/03/2018 \nΧώρος : Ξενοδοχείο Porto Palace \nΠόλη : Θεσσαλονίκη \nΕπιστημονική Εταιρεία : Αθλητιατρική Εταιρεία Ελλάδος \nΕπαγγελματίας Οργανωτής : Global Events
URL:https://iatrikostypos.com/event/12o-diethnes-synedrio-tis-athlitiatrikis-etaireias-ellados-kai-12o-ellado-kypriako-synedrio/
CATEGORIES:Διάφορα,ΣΥΝΕΔΡΙΑ
END:VEVENT
END:VCALENDAR