BEGIN:VCALENDAR
VERSION:2.0
PRODID:-//Iatrikostypos.com - ECPv6.15.16//NONSGML v1.0//EN
CALSCALE:GREGORIAN
METHOD:PUBLISH
X-ORIGINAL-URL:https://iatrikostypos.com
X-WR-CALDESC:Events for Iatrikostypos.com
REFRESH-INTERVAL;VALUE=DURATION:PT1H
X-Robots-Tag:noindex
X-PUBLISHED-TTL:PT1H
BEGIN:VTIMEZONE
TZID:Europe/Helsinki
BEGIN:DAYLIGHT
TZOFFSETFROM:+0200
TZOFFSETTO:+0300
TZNAME:EEST
DTSTART:20170326T010000
END:DAYLIGHT
BEGIN:STANDARD
TZOFFSETFROM:+0300
TZOFFSETTO:+0200
TZNAME:EET
DTSTART:20171029T010000
END:STANDARD
BEGIN:DAYLIGHT
TZOFFSETFROM:+0200
TZOFFSETTO:+0300
TZNAME:EEST
DTSTART:20180325T010000
END:DAYLIGHT
BEGIN:STANDARD
TZOFFSETFROM:+0300
TZOFFSETTO:+0200
TZNAME:EET
DTSTART:20181028T010000
END:STANDARD
BEGIN:DAYLIGHT
TZOFFSETFROM:+0200
TZOFFSETTO:+0300
TZNAME:EEST
DTSTART:20190331T010000
END:DAYLIGHT
BEGIN:STANDARD
TZOFFSETFROM:+0300
TZOFFSETTO:+0200
TZNAME:EET
DTSTART:20191027T010000
END:STANDARD
END:VTIMEZONE
BEGIN:VEVENT
DTSTART;TZID=Europe/Helsinki:20180316T080000
DTEND;TZID=Europe/Helsinki:20180318T220000
DTSTAMP:20260420T114717
CREATED:20180305T123113Z
LAST-MODIFIED:20180305T123113Z
UID:519-1521187200-1521410400@iatrikostypos.com
SUMMARY:12ο Συνέδριο Αθλητιατρικής Εταιρείας Ελλάδος
DESCRIPTION:12ο Συνέδριο Αθλητιατρικής Εταιρείας Ελλάδος \n16/03/2018 – 18/03/2018 \nPorto Palace Hotel\, Θεσσαλονίκη \nΕπιστημονική Εταιρεία : Αθλητιατρική Εταιρεία Ελλάδος \nΠληροφορίες : Global Events – Tηλ: 210 3250260 -e–mail: athens@globalevents.gr
URL:https://iatrikostypos.com/event/12o-synedrio-athlitiatrikis-etaireias-ellados/
CATEGORIES:Διάφορα,ΣΥΝΕΔΡΙΑ
END:VEVENT
BEGIN:VEVENT
DTSTART;TZID=Europe/Helsinki:20180316T080000
DTEND;TZID=Europe/Helsinki:20180318T213000
DTSTAMP:20260420T114717
CREATED:20180305T132721Z
LAST-MODIFIED:20180305T132721Z
UID:545-1521187200-1521408600@iatrikostypos.com
SUMMARY:Μεταβολικά Νοσήματα των Οστών – Βιβλιογραφική Ενημέρωση
DESCRIPTION:Μεταβολικά Νοσήματα των Οστών – Βιβλιογραφική Ενημέρωση \n16/03/2018 – 18/03/2018\nΣυνεδριακό Κέντρο Διάσελο: Μέτσοβο \nΕπιστημονική Εταιρεία / Φορέας :Ελληνική Εταιρεία Μελέτης Μεταβολισμού των οστών (ΕΕΜΜΟ) \nΕπαγγελματίας Οργανωτής / PCO :Conferre\,Τηλέφωνο : 2651 068610
URL:https://iatrikostypos.com/event/metavolika-nosimata-ton-oston-vivliografiki-enimerosi/
CATEGORIES:Διάφορα,ΣΥΝΕΔΡΙΑ
END:VEVENT
BEGIN:VEVENT
DTSTART;TZID=Europe/Helsinki:20180316T080000
DTEND;TZID=Europe/Helsinki:20180316T213000
DTSTAMP:20260420T114717
CREATED:20180305T131221Z
LAST-MODIFIED:20180305T131600Z
UID:542-1521187200-1521235800@iatrikostypos.com
SUMMARY:Ενημερωτική εκδήλωση για το κοινό «Ζώντας με τη Νόσο του Parkinson: Προβλήματα\, δυνατότητες\, προοπτικές»
DESCRIPTION:Ενημερωτική εκδήλωση για το κοινό «Ζώντας με τη Νόσο του Parkinson: Προβλήματα\, δυνατότητες\, προοπτικές» \n16/03/2018 \nΞενοδοχείο Royal Olympic\, Αθήνα \nΕπιστημονική Εταιρεία / Φορέας :ΑΚΑΔΗΜΙΑ ΝΕΥΡΟΕΠΙΣΤΗΜΩΝ \nΕπαγγελματίας Οργανωτής / PCO : GK\, Τηλ.: 210689755\, e-mail : info@gk.gr
URL:https://iatrikostypos.com/event/enimerotiki-ekdilosi-gia-koino-zontas-ti-noso-toy-parkinson-provlimata-dynatotites-prooptikes/
CATEGORIES:Διάφορα,ΣΥΝΕΔΡΙΑ
END:VEVENT
BEGIN:VEVENT
DTSTART;TZID=Europe/Helsinki:20180310T080000
DTEND;TZID=Europe/Helsinki:20180310T213000
DTSTAMP:20260420T114717
CREATED:20180305T122243Z
LAST-MODIFIED:20180305T122243Z
UID:513-1520668800-1520717400@iatrikostypos.com
SUMMARY:1η ΗΜΕΡΙΔΑ ΚΥΣΤΙΚΗΣ ΙΝΩΣΗΣ ΓΝ ΠΑΙΔΩΝ “Η ΑΓΙΑ ΣΟΦΙΑ”
DESCRIPTION:1η ΗΜΕΡΙΔΑ ΚΥΣΤΙΚΗΣ ΙΝΩΣΗΣ ΓΝ ΠΑΙΔΩΝ “Η ΑΓΙΑ ΣΟΦΙΑ” \n10/03/2018 (11:00 π.μ. -7:00 μ.μ) \nDivani Caravel Hotel \nΕπιστημονική Εταιρεία / Φορέας : Γ.Ν. ΠΑΙΔΩΝ “Η ΑΓΙΑ ΣΟΦΙΑ” – Κυστικής Ινώδους Νόσου \nΕπαγγελματίας Οργανωτής / PCO : SYNEDRA\, Τηλ. : 2610432200\, Email : info@synedra.gr
URL:https://iatrikostypos.com/event/1i-imerida-kystikis-inosis-gn-paidon-agia-sofia/
CATEGORIES:Διάφορα,ΣΥΝΕΔΡΙΑ
END:VEVENT
BEGIN:VEVENT
DTSTART;TZID=Europe/Helsinki:20180309T080000
DTEND;TZID=Europe/Helsinki:20180311T220000
DTSTAMP:20260420T114717
CREATED:20180305T121908Z
LAST-MODIFIED:20180305T121908Z
UID:511-1520582400-1520805600@iatrikostypos.com
SUMMARY:1st Pan-Hellenic Interdisciplinary Conference of the Centers of Prevention of Addictions and the Promotion of Psychosocial Health
DESCRIPTION:1st Pan-Hellenic Interdisciplinary Conference of the Centers of Prevention of Addictions and the Promotion of Psychosocial Health \nΗμερομηνία : 9-11 Μαρτίου 2018 \nΧώρος : KEDEA Conference Centre \nΠόλη : Θεσσαλονίκη \nΕπιστημονική Εταιρεία : Seirios \nΕπαγγελματίας Οργανωτής : Symvoli
URL:https://iatrikostypos.com/event/1st-pan-hellenic-interdisciplinary-conference-centers-prevention-addictions-promotion-psychosocial-health/
CATEGORIES:Διάφορα,ΣΥΝΕΔΡΙΑ
END:VEVENT
BEGIN:VEVENT
DTSTART;TZID=Europe/Helsinki:20180309T080000
DTEND;TZID=Europe/Helsinki:20180310T220000
DTSTAMP:20260420T114717
CREATED:20180305T121448Z
LAST-MODIFIED:20180309T112406Z
UID:508-1520582400-1520719200@iatrikostypos.com
SUMMARY:Παχυσαρκία Νόσος και Απειλή – Νεώτερες Εξελίξεις
DESCRIPTION:Παχυσαρκία Νόσος και Απειλή – Νεώτερες Εξελίξεις \n09/03/2018 – 10/03/2018 \nΑίγλη Ζαππείου \nΕπιστημονική Εταιρεία / Φορέας : Α’ Παθολογική Κλινική ΜΗΤΕΡΑ σε συνεργασία με το Χαροκόπειο Πανεπιστήμιο\, Τμήμα Επιστήμης Διαιτολογίας – Διατροφής \nΠληροφορίες : Synthesis Group\,Τηλ. : 210 9609400\, e-mail : secretariat@synthesispco.com
URL:https://iatrikostypos.com/event/pachysarkia-nosos-kai-apeili-neoteres-exelixeis/
CATEGORIES:Διάφορα,ΣΥΝΕΔΡΙΑ
END:VEVENT
BEGIN:VEVENT
DTSTART;VALUE=DATE:20180308
DTEND;VALUE=DATE:20180309
DTSTAMP:20260420T114717
CREATED:20180307T111949Z
LAST-MODIFIED:20180308T183707Z
UID:671-1520467200-1520553599@iatrikostypos.com
SUMMARY:Συνέδριο ΣΦΕΕ: Δίκαιο και Δεοντολογία του Φαρμάκου
DESCRIPTION:Ο Σύνδεσμος Φαρμακευτικών Επιχειρήσεων Ελλάδος (ΣΦΕΕ) για τρίτη φορά\, οργανώνει την Πέμπτη 8 Μαρτίου 2018 στο αμφιθέατρο του Μουσείου Γουλανδρή\, στην Κηφισιά\, ενημερωτικό Συνέδριο πάνω στα επίκαιρα νομικά\, ρυθμιστικά\, φορολογικά\, αναπτυξιακά και δεοντολογικά θέματα που απασχολούν τον κλάδο του φαρμάκου πανευρωπαϊκά\, με αναφορά ταυτόχρονα και σε ζητήματα που αφορούν στην ελληνική πραγματικότητα και με μεγάλη σπουδαιότητα για τις εταιρίες μέλη του Συνδέσμου. \nΟι θεματικές ενότητες του Συνεδρίου περιλαμβάνουν: \nα) τις εξελίξεις στο ρυθμιστικό περιβάλλον\, όπου θα συζητηθούν οι πλέον πρόσφατες εξελίξεις στην επιστημονική ανάπτυξη στον τομέα του φαρμάκου και το θεσμικό και νομικό πλαίσιο που αφορά στα θέματα του φαρμάκου\, \nβ) θέματα ανταγωνισμού\, όπου θα αναδειχθεί ο ρόλος της καινοτομίας\, αλλά και οι θεμιτές πρακτικές τιμολόγησης και αποζημίωσης για την διαφύλαξη ενός πλαισίου υγιούς και διάφανου ανταγωνισμού\, \nγ) τα κίνητρα\, το νομικό και θεσμικό πλαίσιο αλλά και θέματα που αφορούν στις κλινικές μελέτες και στις πατέντες\, \nδ) το δίκαιο στην υπηρεσία της ανάπτυξης και \nστ) η δεοντολογία\, δεδομένου ότι η προσπάθεια του ΣΦΕΕ για αυτορρύθμιση και διαφάνεια είναι διαρκής και η εφαρμογή διαδικασιών και ελέγχων διαχρονική. \n \nΤο Συνέδριο θα πλαισιωθεί με ομιλητές από την EFPIA\, τον BUSINESS EUROPE\, τον ΣΕΒ\, τον ΟΟΣΑ\, εκπροσώπους της HACRO\, του ΣΕΔΕΑ\, του Ελληνικού Πανεπιστημίου\, του Φαρμακευτικού Συλλόγου Αττικής\, και πολλούς άλλους φορείς\, τους οποίους θα έχουν την ευκαιρία να γνωρίσουν από κοντά όλοι οι συμμετέχοντες. \nΠερισσότερα για τον ΣΦΕΕ \nΟ ΣΦΕΕ αποτελεί τον μεγαλύτερο σύνδεσμό επιχειρήσεων εντός του ΣΕΒ\, έχει 65 εταιρίες μέλη\, εκπροσωπεί πάνω από το 90% της αγοράς του φαρμάκου στην Ελλάδα και το μεγαλύτερο διεθνές κεφάλαιο που λειτουργεί αυτή την στιγμή στην χώρα. Παραμένει διαρκές μέλος της EFPIA\, ενός οργανισμού που εκπροσωπεί όλους τους ευρωπαϊκούς συνδέσμους και 1.900 εταιρίες προσηλωμένες στην έρευνα και την ανάπτυξη\, με πάνω από 1.000.000 μέλη\, αποτελώντας την φωνή της βιομηχανίας στην ευρωπαϊκή σκηνή. \nΓια περισσότερες πληροφορίες: www.sfee.gr \n 
URL:https://iatrikostypos.com/event/synedrio-sfee-dikaio-kai-deontologia-toy-farmakoy/
CATEGORIES:Διάφορα,ΣΥΝΕΔΡΙΑ
ATTACH;FMTTYPE=image/jpeg:https://iatrikostypos.com/wp-content/uploads/2018/03/sfee.jpg
END:VEVENT
END:VCALENDAR