BEGIN:VCALENDAR
VERSION:2.0
PRODID:-//Iatrikostypos.com - ECPv6.15.16//NONSGML v1.0//EN
CALSCALE:GREGORIAN
METHOD:PUBLISH
X-WR-CALNAME:Iatrikostypos.com
X-ORIGINAL-URL:https://iatrikostypos.com
X-WR-CALDESC:Events for Iatrikostypos.com
REFRESH-INTERVAL;VALUE=DURATION:PT1H
X-Robots-Tag:noindex
X-PUBLISHED-TTL:PT1H
BEGIN:VTIMEZONE
TZID:Europe/Helsinki
BEGIN:DAYLIGHT
TZOFFSETFROM:+0200
TZOFFSETTO:+0300
TZNAME:EEST
DTSTART:20170326T010000
END:DAYLIGHT
BEGIN:STANDARD
TZOFFSETFROM:+0300
TZOFFSETTO:+0200
TZNAME:EET
DTSTART:20171029T010000
END:STANDARD
BEGIN:DAYLIGHT
TZOFFSETFROM:+0200
TZOFFSETTO:+0300
TZNAME:EEST
DTSTART:20180325T010000
END:DAYLIGHT
BEGIN:STANDARD
TZOFFSETFROM:+0300
TZOFFSETTO:+0200
TZNAME:EET
DTSTART:20181028T010000
END:STANDARD
BEGIN:DAYLIGHT
TZOFFSETFROM:+0200
TZOFFSETTO:+0300
TZNAME:EEST
DTSTART:20190331T010000
END:DAYLIGHT
BEGIN:STANDARD
TZOFFSETFROM:+0300
TZOFFSETTO:+0200
TZNAME:EET
DTSTART:20191027T010000
END:STANDARD
BEGIN:DAYLIGHT
TZOFFSETFROM:+0200
TZOFFSETTO:+0300
TZNAME:EEST
DTSTART:20200329T010000
END:DAYLIGHT
BEGIN:STANDARD
TZOFFSETFROM:+0300
TZOFFSETTO:+0200
TZNAME:EET
DTSTART:20201025T010000
END:STANDARD
END:VTIMEZONE
BEGIN:VEVENT
DTSTART;TZID=Europe/Helsinki:20190209T080000
DTEND;TZID=Europe/Helsinki:20190209T170000
DTSTAMP:20260421T121335
CREATED:20190109T124216Z
LAST-MODIFIED:20190109T124216Z
UID:5838-1549699200-1549731600@iatrikostypos.com
SUMMARY:Ετήσια Σεμινάρια Μελέτης της Υπέρτασης 2018 – 2019 (29η σειρά)
DESCRIPTION:Ετήσια Σεμινάρια Μελέτης της Υπέρτασης 2018 – 2019 (29η σειρά)\n09/02/2019 \nΕλληνική Εταιρεία Υπέρτασης Αθήνα \nΞενοδοχείο Divani Caravel & Θεσσαλονίκη – ΚΕΔΕΑ ΑΠΘ \nΠληροφορίες : Congress World– Τηλ.: 2107210001-2107210052 – Fax.: 2107210051- e-mail: info@congressworld.gr
URL:https://iatrikostypos.com/event/etisia-seminaria-meletis-tis-ypertasis-2018-2019-29i-seira-2/
CATEGORIES:Διάφορα,ΣΥΝΕΔΡΙΑ,Υπέρταση
ATTACH;FMTTYPE=image/jpeg:https://iatrikostypos.com/wp-content/uploads/2019/01/29-eey-lessons-afisa2.jpg
ORGANIZER;CN="Congress World":MAILTO:info@congressworld.gr
END:VEVENT
BEGIN:VEVENT
DTSTART;TZID=Europe/Helsinki:20190112T080000
DTEND;TZID=Europe/Helsinki:20190112T170000
DTSTAMP:20260421T121335
CREATED:20190109T082139Z
LAST-MODIFIED:20190109T082139Z
UID:5710-1547280000-1547312400@iatrikostypos.com
SUMMARY:Ετήσια Σεμινάρια Μελέτης της Υπέρτασης 2018 – 2019 (29η σειρά)
DESCRIPTION:Ετήσια Σεμινάρια Μελέτης της Υπέρτασης 2018 – 2019- (29η σειρά) \nΕλληνική Εταιρεία Υπέρτασης \nΑθήνα – Ξενοδοχείο Divani Caravel & Θεσσαλονίκη – ΚΕΔΕΑ ΑΠΘ \n12/01/2019 \nCONGRESSWORLD‎ \nΤΗΛ.: 210 7210001 \nFAX : 210 72 10 051 \ninfo@congressworld.gr \nreception@congressworld.gr
URL:https://iatrikostypos.com/event/etisia-seminaria-meletis-tis-ypertasis-2018-2019-29i-seira/
CATEGORIES:ΣΥΝΕΔΡΙΑ,Υπέρταση
ATTACH;FMTTYPE=image/jpeg:https://iatrikostypos.com/wp-content/uploads/2019/01/29-eey-lessons-afisa2-742x1024.jpg
ORGANIZER;CN="Congress World":MAILTO:info@congressworld.gr
END:VEVENT
BEGIN:VEVENT
DTSTART;TZID=Europe/Helsinki:20181102T080000
DTEND;TZID=Europe/Helsinki:20181103T170000
DTSTAMP:20260421T121335
CREATED:20181017T103434Z
LAST-MODIFIED:20181017T103434Z
UID:3410-1541145600-1541264400@iatrikostypos.com
SUMMARY:6o Κλινικό Φροντιστήριο\, Πνευμονικής Υπέρτασης & Θρόμβωσης
DESCRIPTION:6o Κλινικό Φροντιστήριο\, Πνευμονικής Υπέρτασης & Θρόμβωσης \n02/11/2018 – 03/11/2018 \nΜέγαρο Μουσικής Θεσσαλονίκης \nΕπιστημονική Εταιρεία: Α’ Πανεπιστημιακή Κλινική Π.Γ.Ν «ΑΧΕΠΑ» \nΕπαγγελματίας Οργανωτής : TMG- The Mastermind Group \nΤηλ: 210 6827405-210 6839690/1
URL:https://iatrikostypos.com/event/6o-kliniko-frontistirio-pneymonikis-ypertasis-amp-thromvosis/
CATEGORIES:Διάφορα,ΣΥΝΕΔΡΙΑ,Υπέρταση
ATTACH;FMTTYPE=image/png:https://iatrikostypos.com/wp-content/uploads/2018/10/6.png
END:VEVENT
BEGIN:VEVENT
DTSTART;TZID=Europe/Helsinki:20180418T080000
DTEND;TZID=Europe/Helsinki:20180418T220000
DTSTAMP:20260421T121335
CREATED:20180326T095925Z
LAST-MODIFIED:20180326T100145Z
UID:1213-1524038400-1524088800@iatrikostypos.com
SUMMARY:Ι.Μ.Ε.Θ.Α Webinars 2018 – “Excellence in Thrombosis”
DESCRIPTION: 18/04/2018 – Ι.Μ.Ε.Θ.Α Webinars 2018 – “Excellence in Thrombosis”  \nΙ.Μ.Ε.Θ.Α Webinars 2018 – “Excellence in Thrombosis” Σ. Σουρμελής Διευθυντής Β’ Ορθοπαιδικής Κλινικής\, Διαγνωστικό και Θεραπευτικό Κέντρο Αθηνών “ΥΓΕΙΑ” Σύγχρονη αντιθρομβωτική αγωγή στη φλεβική θρομβοεμβολική νόσο
URL:https://iatrikostypos.com/event/i-m-e-th-a-webinars-2018-excellence-in-thrombosis-2/
CATEGORIES:Διάφορα,ΣΥΝΕΔΡΙΑ,Υπέρταση
END:VEVENT
BEGIN:VEVENT
DTSTART;TZID=Europe/Helsinki:20180414T080000
DTEND;TZID=Europe/Helsinki:20180414T220000
DTSTAMP:20260421T121335
CREATED:20180326T095348Z
LAST-MODIFIED:20180326T095348Z
UID:1211-1523692800-1523743200@iatrikostypos.com
SUMMARY:Ετήσια Σεμινάρια Μελέτης της Υπέρτασης 2017 – 2018
DESCRIPTION:14 Απριλίου 2018 Αθήνα – Ξενοδοχείο Divani Caravel & Θεσσαλονίκη – ΚΕΔΕΑ ΑΠΘ  \n Ελληνική Εταιρεία Υπέρτασης 14/04/2018
URL:https://iatrikostypos.com/event/etisia-seminaria-meletis-tis-ypertasis-2017-2018/
CATEGORIES:Διάφορα,ΣΥΝΕΔΡΙΑ,Υπέρταση
END:VEVENT
END:VCALENDAR