BEGIN:VCALENDAR
VERSION:2.0
PRODID:-//Iatrikostypos.com - ECPv6.15.16//NONSGML v1.0//EN
CALSCALE:GREGORIAN
METHOD:PUBLISH
X-WR-CALNAME:Iatrikostypos.com
X-ORIGINAL-URL:https://iatrikostypos.com
X-WR-CALDESC:Events for Iatrikostypos.com
REFRESH-INTERVAL;VALUE=DURATION:PT1H
X-Robots-Tag:noindex
X-PUBLISHED-TTL:PT1H
BEGIN:VTIMEZONE
TZID:Europe/Helsinki
BEGIN:DAYLIGHT
TZOFFSETFROM:+0200
TZOFFSETTO:+0300
TZNAME:EEST
DTSTART:20170326T010000
END:DAYLIGHT
BEGIN:STANDARD
TZOFFSETFROM:+0300
TZOFFSETTO:+0200
TZNAME:EET
DTSTART:20171029T010000
END:STANDARD
BEGIN:DAYLIGHT
TZOFFSETFROM:+0200
TZOFFSETTO:+0300
TZNAME:EEST
DTSTART:20180325T010000
END:DAYLIGHT
BEGIN:STANDARD
TZOFFSETFROM:+0300
TZOFFSETTO:+0200
TZNAME:EET
DTSTART:20181028T010000
END:STANDARD
BEGIN:DAYLIGHT
TZOFFSETFROM:+0200
TZOFFSETTO:+0300
TZNAME:EEST
DTSTART:20190331T010000
END:DAYLIGHT
BEGIN:STANDARD
TZOFFSETFROM:+0300
TZOFFSETTO:+0200
TZNAME:EET
DTSTART:20191027T010000
END:STANDARD
END:VTIMEZONE
BEGIN:VEVENT
DTSTART;TZID=Europe/Helsinki:20180412T080000
DTEND;TZID=Europe/Helsinki:20180414T220000
DTSTAMP:20260421T191728
CREATED:20180316T123938Z
LAST-MODIFIED:20180316T123938Z
UID:893-1523520000-1523743200@iatrikostypos.com
SUMMARY:37ο Ετήσιο Συνέδριο Ο.Τ.Ε.ΜΑ.Θ.
DESCRIPTION:37ο Ετήσιο Συνέδριο Ο.Τ.Ε.ΜΑ.Θ. \n12/04/2018 – 14/04/2018 \nΞενοδοχείο Nikopolis Θεσσαλονίκη \nΠόλη : Θεσσαλονίκη \nΕπιστημονική Εταιρεία / Φορέας :ΟΤΕΜΑΘ \nΕπαγγελματίας Οργανωτής : Premium Events \nΤηλέφωνο : 2310 226250\, Email : conference1@premium-events.gr\, www.otemath2018.gr/
URL:https://iatrikostypos.com/event/37o-etisio-synedrio-o-t-e-ma-th/
CATEGORIES:Διάφορα,ΣΥΝΕΔΡΙΑ
END:VEVENT
BEGIN:VEVENT
DTSTART;TZID=Europe/Helsinki:20180330T080000
DTEND;TZID=Europe/Helsinki:20180331T220000
DTSTAMP:20260421T191728
CREATED:20180305T143653Z
LAST-MODIFIED:20180305T143653Z
UID:578-1522396800-1522533600@iatrikostypos.com
SUMMARY:4o Workshop-Αρρυθμιών & Βηματοδότησης
DESCRIPTION:4o Workshop-Αρρυθμιών & Βηματοδότησης \n30/03/2018 – 31/03/2018 \nDivani Caravel Hotel\, Αθήνα \nΕπιστημονική Εταιρεία / Φορέας :Ελληνική Καρδιολογική Εταιρεία / Ελληνικό Κολλέγιο Καρδιολογίας / Ινστιτούτο Μελέτης & Εκπαίδευσης Στη Θρόμβωση & Την Αντιθρομβωτική Αγωγή \nΕπαγγελματίας Οργανωτής / PCO : The MasterMind Group \nΤηλέφωνο : 210 6827405
URL:https://iatrikostypos.com/event/4o-workshop-arrythmion-vimatodotisis/
CATEGORIES:Καρδιολογικο,ΣΥΝΕΔΡΙΑ
END:VEVENT
BEGIN:VEVENT
DTSTART;TZID=Europe/Helsinki:20180330T080000
DTEND;TZID=Europe/Helsinki:20180331T220000
DTSTAMP:20260421T191728
CREATED:20180305T143116Z
LAST-MODIFIED:20180305T143116Z
UID:576-1522396800-1522533600@iatrikostypos.com
SUMMARY:1ο Διεπιστημονικό Preceptorship Ουρολογικού Καρκίνου
DESCRIPTION:1ο Διεπιστημονικό Preceptorship Ουρολογικού Καρκίνου \n30/03/2018 – 31/03/2018 \nΧώρος: Κέντρο Αρχιτεκτονικής της Μεσογείου “Μεγάλο Αρσενάλι”\, Χανιά \nΕπιστημονική Εταιρεία / Φορέας : Π.Ε.Β.Ε \nΕπαγγελματίας Οργανωτής / PCO : SCEP \nΤηλέφωνο : 22810222155\,2107240079 \nEmail : info@scep.gr \nWebsite : www.scep.gr
URL:https://iatrikostypos.com/event/1o-diepistimoniko-preceptorship-oyrologikoy-karkinoy/
CATEGORIES:Ογκολογικό,ΣΥΝΕΔΡΙΑ
END:VEVENT
BEGIN:VEVENT
DTSTART;TZID=Europe/Helsinki:20180330T080000
DTEND;TZID=Europe/Helsinki:20180331T170000
DTSTAMP:20260421T191728
CREATED:20180329T101536Z
LAST-MODIFIED:20180329T101636Z
UID:1338-1522396800-1522515600@iatrikostypos.com
SUMMARY:1o Συνέδριο Ελληνικής Εταιρείας Παρακλίνιου Διαγνωστικού Έλεγχου
DESCRIPTION:Το 1ο Ετήσιο Συνέδριο με θέμα «Παρακλίνιος Διαγνωστικός Έλεγχος. Η δύναμη και η δυναμική μίας σημαντικής καινοτομίας στο χώρο της Υγείας»\, διοργανώνει την Παρασκευή 30 και το Σάββατο 31 Μαρτίου 2018\, στο αμφιθέατρο του «Ερρίκος Ντυνάν Hospital center» η Ελληνική Εταιρεία Παρακλίνιου Διαγνωστικού Ελέγχου (Ε.Ε.Πα.Δ.Ε). \n\n \nΤο Συνέδριο\, στο πλαίσιο της Συνεχιζόμενης Εκπαίδευσης των Επαγγελματιών Υγείας\, πραγματοποιείται υπό την Αιγίδα:\n\nτoυ Ιατρικού Συλλόγου Αθηνών\nτης Ελληνικής Εταιρείας Μελέτης Εφαρμογών Πληροφορικής στην Υγεία\nτης Ελληνικής Εταιρείας Διάδοσης Ιπποκράτειου Πνεύματος\nτης Ένωσης Νοσηλευτών Ελλάδος\n\nΣτους συμμετέχοντες θα χορηγηθούν:\n\n13 Μόρια Συνεχιζόμενης Ιατρικής Εκπαίδευσης (CME Credits) από τον Πανελλήνιο Ιατρικό Σύλλογο (ΠΙΣ)\,\n12 Μόρια Συνεχιζόμενης Νοσηλευτικής Εκπαίδευσης από την Ε.Ν.Ε\,\nβεβαιώσεις συμμετοχής.\n\nΣτο πλαίσιο του Συνεδρίου\, κορυφαίοι επιστήμονες από την Ελλάδα και το εξωτερικό θα αναπτύξουν το σημαντικό ρόλο των Παρακλίνιων Διαγνωστικών Συστημάτων (Point Of Care) και τη χρήση τους στο σύνολο των δομών παροχής υπηρεσιών υγείας. Εκτενέστερα\, θα αναλυθούν και θα παρουσιαστούν το πεδίο εφαρμογής τους από την Πρωτοβάθμια περίθαλψη έως τη Δευτεροβάθμια και την Τριτοβάθμια\, από τις μικρές αποκεντρωμένες δομές της περιφέρειας έως τις μεγάλες οργανωμένες μονάδες Υγείας των αστικών κέντρων και από την οικία των ασθενών έως τους οργανισμούς παροχής αμιγώς ιατρικών υπηρεσιών. Παράλληλα\, θα συζητηθούν οι προοπτικές συλλογής\, επεξεργασίας και αποθήκευσης των δεδομένων που παράγονται από τα Παρακλίνια Διαγνωστικά Συστήματα και τα οποία μέχρι σήμερα δεν υπόκεινται σε κανένα πλαίσιο διαχείρισης και προστασίας. \nΤέλος\, στο πλαίσιο των δύο κλινικών φροντιστηρίων θα δοθεί επιπλέον η δυνατότητα στους συμμετέχοντες να επεξεργαστούν και να χρησιμοποιήσουν πλήθος τέτοιων συστημάτων\, να τα «γνωρίσουν» και να εξοικειωθούν με αυτά.
URL:https://iatrikostypos.com/event/1o-synedrio-ellinikis-etaireias-paraklinioy-diagnostikoy-elegchoy/
CATEGORIES:Διάφορα
ATTACH;FMTTYPE=image/jpeg:https://iatrikostypos.com/wp-content/uploads/2018/03/εεπαδε.jpg
END:VEVENT
BEGIN:VEVENT
DTSTART;TZID=Europe/Helsinki:20180329T080000
DTEND;TZID=Europe/Helsinki:20180401T220000
DTSTAMP:20260421T191728
CREATED:20180305T142642Z
LAST-MODIFIED:20180305T142642Z
UID:574-1522310400-1522620000@iatrikostypos.com
SUMMARY:Εαριναί Παιδιατρικαί Ημέραι
DESCRIPTION:Εαριναί Παιδιατρικαί Ημέραι \n29/03/2018 – 01/04/2018 \nCineTitania\,  Σπέτσες \nΦορέας :ΜΕΣΟΓΕΙΑΚΗ ΑΚΑΔΗΜΙΑ ΓΙΑ ΤΗΝ ΙΑΤΡΙΚΗ ΚΑΙ ΤΗΝ ΤΕΧΝΗ \nΕπαγγελματίας Οργανωτής / PCO : Global Events\, Τηλέφωνο : 2310247743\, Email : info@globalevents.gr \nWebsite : www.globalevents.gr
URL:https://iatrikostypos.com/event/earinai-paidiatrikai-imerai/
CATEGORIES:Διάφορα,ΣΥΝΕΔΡΙΑ
END:VEVENT
BEGIN:VEVENT
DTSTART;TZID=Europe/Helsinki:20180329T080000
DTEND;TZID=Europe/Helsinki:20180401T220000
DTSTAMP:20260421T191728
CREATED:20180305T142025Z
LAST-MODIFIED:20180305T142025Z
UID:570-1522310400-1522620000@iatrikostypos.com
SUMMARY:12ο Πανελλήνιο Συνέδριο Αλλεργιολογίας & Κλινικής Ανοσολογίας “Εξερευνώντας το σύμπαν της αλλεργίας”
DESCRIPTION:12ο Πανελλήνιο Συνέδριο Αλλεργιολογίας & Κλινικής Ανοσολογίας “Εξερευνώντας το σύμπαν της αλλεργίας” \n29/03/2018 – 01/04/2018 \nΜέγαρο Μουσικής Αθηνών\, Αθήνα \nΕπιστημονική Εταιρεία / Φορέας :Ελληνική Εταιρεία Αλλεργιολογίας και Κλινικής Ανοσολογίας \nΕπαγγελματίας Οργανωτής / PCO : 210 6048260\, 210 6047476
URL:https://iatrikostypos.com/event/12o-panellinio-synedrio-allergiologias-klinikis-anosologias-exereynontas-sympan-tis-allergias/
CATEGORIES:ΣΥΝΕΔΡΙΑ
END:VEVENT
BEGIN:VEVENT
DTSTART;TZID=Europe/Helsinki:20180329T080000
DTEND;TZID=Europe/Helsinki:20180331T220000
DTSTAMP:20260421T191728
CREATED:20180326T084637Z
LAST-MODIFIED:20180326T085951Z
UID:1197-1522310400-1522533600@iatrikostypos.com
SUMMARY:18ο Πανελλήνιο Συνέδριο Υπέρτασης
DESCRIPTION:Αθήνα\, Ξενοδοχείο Divani Caravel  \n18ο Πανελλήνιο Συνέδριο Υπέρτασης Αθήνα\, Ξενοδοχείο Divani Caravel Ελληνική Εταιρεία Υπέρτασης
URL:https://iatrikostypos.com/event/18o-panellinio-synedrio-ypertasis-2/
CATEGORIES:Διάφορα,ΣΥΝΕΔΡΙΑ
END:VEVENT
BEGIN:VEVENT
DTSTART;TZID=Europe/Helsinki:20180329T080000
DTEND;TZID=Europe/Helsinki:20180331T220000
DTSTAMP:20260421T191728
CREATED:20180319T183240Z
LAST-MODIFIED:20180319T183420Z
UID:1042-1522310400-1522533600@iatrikostypos.com
SUMMARY:18ο Πανελλήνιο Συνέδριο Υπέρτασης
DESCRIPTION:  \n18ο Πανελλήνιο Συνέδριο Υπέρτασης \nΕλληνική Εταιρεία Υπέρτασης \nΞενοδοχείο Divani Caravel\, Αθήνα \n29/03/2017 – 31/03/2018 \nΓραφείο Οργάνωσης: Congress World \nΤηλ.: 210 72 10001\, 210 72 10052\, 210-72 10025\, Fax: 210 72 10051\nwww.congressworld.gr\, e-mail: info@congressworld.gr \n18ο Πανελλήνιο Συνέδριο Υπέρτασης
URL:https://iatrikostypos.com/event/18o-panellinio-synedrio-ypertasis/
CATEGORIES:Διάφορα,ΣΥΝΕΔΡΙΑ
ATTACH;FMTTYPE=image/jpeg:https://iatrikostypos.com/wp-content/uploads/2018/03/18ο-Πανελλήνιο-Συνέδριο-Υπέρτασης.jpg
END:VEVENT
BEGIN:VEVENT
DTSTART;TZID=Europe/Helsinki:20180329T080000
DTEND;TZID=Europe/Helsinki:20180331T220000
DTSTAMP:20260421T191728
CREATED:20180305T142400Z
LAST-MODIFIED:20180305T142400Z
UID:572-1522310400-1522533600@iatrikostypos.com
SUMMARY:14ο Πανελλήνιο Συνέδριο της Ελληνικής Γεροντολογικής και Γηριατρικής Εταιρείας
DESCRIPTION:14ο Πανελλήνιο Συνέδριο της Ελληνικής Γεροντολογικής και Γηριατρικής Εταιρείας \n29/03/2018 – 31/03/2018 \nΞενοδοχείο Royal Olympic \nΕπιστημονική Εταιρεία: Ελληνική Γεροντολογική και Γηριατρική Εταιρεία \nΕπαγγελματίας Οργανωτής / PCO : Global Events\,Τηλέφωνο : 2310247743 \nEmail : dora@globalevents.gr\, Website : www.globalevents.gr
URL:https://iatrikostypos.com/event/14o-panellinio-synedrio-tis-ellinikis-gerontologikis-kai-giriatrikis-etaireias/
CATEGORIES:Διάφορα,ΣΥΝΕΔΡΙΑ
END:VEVENT
BEGIN:VEVENT
DTSTART;TZID=Europe/Helsinki:20180328T080000
DTEND;TZID=Europe/Helsinki:20180328T220000
DTSTAMP:20260421T191728
CREATED:20180326T082434Z
LAST-MODIFIED:20180326T082434Z
UID:1195-1522224000-1522274400@iatrikostypos.com
SUMMARY:Ι.Μ.Ε.Θ.Α Webinars 2018 – “Excellence in Thrombosis”
DESCRIPTION:Ι.Μ.Ε.Θ.Α Webinars 2018 – “Excellence in Thrombosis” Αντιθρομβωτική αγωγή στις παθήσεις των περιφερικών αρτηριών \n28/03/2018 \nΙατρική Σχολή Πανεπιστημίου Θεσσαλίας \nΙ.Μ.Ε.Θ.Α Webinars 2018 – “Excellence in Thrombosis” \nΜ. Ματσάγκας Kαθηγητής Αγγειοχειρουργικής \n 
URL:https://iatrikostypos.com/event/i-m-e-th-a-webinars-2018-excellence-in-thrombosis/
CATEGORIES:Διάφορα,ΣΥΝΕΔΡΙΑ
END:VEVENT
BEGIN:VEVENT
DTSTART;TZID=Europe/Helsinki:20180328T080000
DTEND;TZID=Europe/Helsinki:20180328T220000
DTSTAMP:20260421T191728
CREATED:20180305T141443Z
LAST-MODIFIED:20180305T141443Z
UID:568-1522224000-1522274400@iatrikostypos.com
SUMMARY:1η ημερίδα αθλητικών κακώσεων (1st Conference of Sports Injuries) με θέμα «Μυϊκές θλάσεις οπίσθιων μηριαίων: από την έρευνα στην κλινική πράξη»
DESCRIPTION:1η Ημερίδα αθλητικών κακώσεων (1st Conference of Sports Injuries) με θέμα «Μυϊκές θλάσεις οπίσθιων μηριαίων: από την έρευνα στην κλινική πράξη» \n28/03/2018 \nΟλυμπιακό Στάδιο\, Αθήνα \nΦορέας : ΠΑΕ ΑΕΚ
URL:https://iatrikostypos.com/event/1i-imerida-athlitikon-kakoseon-1st-conference-sports-injuries-thema-myikes-thlaseis-opisthion-miriaion-apo-tin-ereyna-stin-kliniki-praxi/
CATEGORIES:ΣΥΝΕΔΡΙΑ
END:VEVENT
BEGIN:VEVENT
DTSTART;TZID=Europe/Helsinki:20180323T080000
DTEND;TZID=Europe/Helsinki:20180325T220000
DTSTAMP:20260421T191728
CREATED:20180305T141207Z
LAST-MODIFIED:20180305T141207Z
UID:566-1521792000-1522015200@iatrikostypos.com
SUMMARY:ALPIC 2018 – Advanced Learning on Platelets & Thrombosis International Course
DESCRIPTION:ALPIC 2018 – Advanced Learning on Platelets & Thrombosis International Course \n23/03/2018 – 25/03/2018\nDiasselo Conference Center\, Μέτσοβο \nΕπιστημονική Εταιρεία: Atherothrombosis Research Centre\, University of Ioannina \nΠληροφορίες : Conferre\, Τηλέφωνο : 2651 068610
URL:https://iatrikostypos.com/event/alpic-2018-advanced-learning-platelets-thrombosis-international-course/
CATEGORIES:ΣΥΝΕΔΡΙΑ
END:VEVENT
BEGIN:VEVENT
DTSTART;TZID=Europe/Helsinki:20180323T080000
DTEND;TZID=Europe/Helsinki:20180325T220000
DTSTAMP:20260421T191728
CREATED:20180305T140841Z
LAST-MODIFIED:20180305T140841Z
UID:564-1521792000-1522015200@iatrikostypos.com
SUMMARY:2ο Συνέδριο Φοιτητών Ιατρικών Σχολών
DESCRIPTION:2ο Συνέδριο Φοιτητών Ιατρικών Σχολών \n23/03/2018 – 25/03/2018 \nΞενοδοχείο Astir\, Πάτρα \nΦορέας :Πρόεδροι Συλλόγων Φοιτητών Ιατρικών Σχολών Πανεπιστημίων Θεσσαλίας\, Κρήτης και Πατρών \nΠληροφορίες : e–mail : 2sfispatra@gmail.com\, Website : www.2sfis.com
URL:https://iatrikostypos.com/event/2o-synedrio-foititon-iatrikon-scholon/
CATEGORIES:ΣΥΝΕΔΡΙΑ
END:VEVENT
BEGIN:VEVENT
DTSTART;TZID=Europe/Helsinki:20180322T080000
DTEND;TZID=Europe/Helsinki:20180324T220000
DTSTAMP:20260421T191728
CREATED:20180305T135849Z
LAST-MODIFIED:20180305T135912Z
UID:560-1521705600-1521928800@iatrikostypos.com
SUMMARY:7th Meeting of the International Mediterranean Society of Orthopaedic Surgery
DESCRIPTION:7th Meeting of the International Mediterranean Society of Orthopaedic Surgery \n22/03/2018 – 24/03/2018 \nΞενοδοχείο Makedonia Palace \nΠόλη : ΘΕΣΣΑΛΟΝΙΚΗ \nΕπιστημονική Εταιρεία : Hellenic International Scientific Institute Amfiktionies & Pan Arab Orthopaedic Association \nΠληροφορίες : Global Events\,Τηλέφωνο : 2310247743\, e-mail : info@globalevents.gr
URL:https://iatrikostypos.com/event/7th-meeting-international-mediterranean-society-orthopaedic-surgery/
CATEGORIES:ΣΥΝΕΔΡΙΑ
END:VEVENT
BEGIN:VEVENT
DTSTART;TZID=Europe/Helsinki:20180322T080000
DTEND;TZID=Europe/Helsinki:20180324T220000
DTSTAMP:20260421T191728
CREATED:20180305T135334Z
LAST-MODIFIED:20180305T135529Z
UID:558-1521705600-1521928800@iatrikostypos.com
SUMMARY:10th International Congress of Internal Medicine
DESCRIPTION:10th International Congress of Internal Medicine \n22 – 24/03/2018 \nRoyal Olympic Hotel\, Αθήνα \nΕπιστημονική Εταιρεία: Institute of Internal Medicine & Hepatology\, Larissa\, Department of Medicine and Research Laboratory of Internal Medicine University of Thessaly Medical School\, Larissa. \nΠληροφορίες : Συνεδριακή ΑΕ/ Conferre SA\, Τηλ.: 2651068610\, e–mail : info@conferre.gr\,  www.internalmedicine-uth.gr
URL:https://iatrikostypos.com/event/10th-international-congress-internal-medicine/
CATEGORIES:Διάφορα,ΣΥΝΕΔΡΙΑ
END:VEVENT
BEGIN:VEVENT
DTSTART;TZID=Europe/Helsinki:20180322T080000
DTEND;TZID=Europe/Helsinki:20180322T220000
DTSTAMP:20260421T191728
CREATED:20180305T140605Z
LAST-MODIFIED:20180305T140605Z
UID:562-1521705600-1521756000@iatrikostypos.com
SUMMARY:WEBINAR: Πότε μια λευκή βλάβη του στοματικού βλεννογόνου αποτελεί αιτία προβληματισμού
DESCRIPTION:WEBINAR: Πότε μια λευκή βλάβη του στοματικού βλεννογόνου αποτελεί αιτία προβληματισμού\n22/03/2018\nΕπιστημονική Εταιρεία : Οδοντιατρικός Σύλλογος Πειραιά\nΠληροφορίες : e-mail : info@osp.gr\, Website : www.osp.gr
URL:https://iatrikostypos.com/event/webinar-pote-mia-leyki-vlavi-toy-stomatikoy-vlennogonoy-apotelei-aitia-provlimatismoy/
CATEGORIES:ΣΥΝΕΔΡΙΑ
END:VEVENT
BEGIN:VEVENT
DTSTART;TZID=Europe/Helsinki:20180321T080000
DTEND;TZID=Europe/Helsinki:20180325T220000
DTSTAMP:20260421T191728
CREATED:20180305T135103Z
LAST-MODIFIED:20180305T135103Z
UID:556-1521619200-1522015200@iatrikostypos.com
SUMMARY:8ο Πανελλήνιο Συνέδριο Τραύματος & Επείγουσας Χειρουργικής
DESCRIPTION:8ο Πανελλήνιο Συνέδριο Τραύματος & Επείγουσας Χειρουργικής  \n21 – 25/03/2018 \nLarissa Imperial – Λάρισα \nΕπιστημονική Εταιρεία / Φορέας : Ελληνική Εταιρεία Τραύματος και Επείγουσας Χειρουργικής. \nΕπαγγελματίας Οργανωτής / PCO : Global Events. Τηλέφωνο : 2310247743
URL:https://iatrikostypos.com/event/8o-panellinio-synedrio-traymatos-epeigoysas-cheiroyrgikis/
CATEGORIES:Διάφορα,ΣΥΝΕΔΡΙΑ
END:VEVENT
BEGIN:VEVENT
DTSTART;TZID=Europe/Helsinki:20180319T080000
DTEND;TZID=Europe/Helsinki:20180323T213000
DTSTAMP:20260421T191728
CREATED:20180305T134809Z
LAST-MODIFIED:20180305T134809Z
UID:554-1521446400-1521840600@iatrikostypos.com
SUMMARY:12ο Πανελλήνιο Συνέδριο Δημόσιας Υγείας & Υπηρεσιών Υγείας
DESCRIPTION:12ο Πανελλήνιο Συνέδριο Δημόσιας Υγείας & Υπηρεσιών Υγείας \n19/03/2018 – 23/03/2018\nΞενοδοχείο Royal Olympic\,  Αθήνα \nΕπιστημονική Εταιρεία / Φορέας : Εθνική Σχολή Δημόσιας Υγείας\, Κέντρο Ελέγχου & Πρόληψης Νοσημάτων \nΕπαγγελματίας Οργανωτής / PCO : FREE SPIRIT\, Τηλέφωνο : 210 6048260\, 210 6047476
URL:https://iatrikostypos.com/event/12o-panellinio-synedrio-dimosias-ygeias-ypiresion-ygeias/
CATEGORIES:Διάφορα,ΣΥΝΕΔΡΙΑ
END:VEVENT
BEGIN:VEVENT
DTSTART;TZID=Europe/Helsinki:20180317T080000
DTEND;TZID=Europe/Helsinki:20180317T220000
DTSTAMP:20260421T191728
CREATED:20180305T134515Z
LAST-MODIFIED:20180305T134515Z
UID:552-1521273600-1521324000@iatrikostypos.com
SUMMARY:1st Annual Fragility Fracture Network (FFN) Greece Congress focused on: “Working together to capture the fracture”
DESCRIPTION:1st Annual Fragility Fracture Network (FFN) Greece Congress focused on: “Working together to capture the fracture” \n17/03/2018\nHall “I.Drakopoulos”\, University of Athens\,  Athens \nΕπιστημονική Εταιρεία / Φορέας : FFN Greece \nΕπαγγελματίας Οργανωτής / PCO : Τηλέφωνο : 6972028117
URL:https://iatrikostypos.com/event/1st-annual-fragility-fracture-network-ffn-greece-congress-focused-working-together-capture-fracture/
CATEGORIES:ΣΥΝΕΔΡΙΑ
END:VEVENT
BEGIN:VEVENT
DTSTART;VALUE=DATE:20180317
DTEND;VALUE=DATE:20180318
DTSTAMP:20260421T191728
CREATED:20180309T133821Z
LAST-MODIFIED:20180309T133931Z
UID:791-1521244800-1521331199@iatrikostypos.com
SUMMARY:Περιγεννητικές Λοιμώξεις: από το Α εώς το Ω
DESCRIPTION:Η Α’ Μαιευτική και Γυναικολογική Κλινική του Εθνικού και Καποδιστριακού Πανεπιστημίου Αθηνών\, στα πλαίσια των επιστημονικών εκδηλώσεων που πραγματοποιεί με συγκεκριμένη θεματολογία και ανάλυση από το Α εώς το Ω\, διοργανώνει σε συνεργασία με την Ελληνική Εταιρεία Προγεννητικής Διάγνωσης και Θεραπείας του Εμβρύου\, την Ημερίδα με τίτλο «Περιγεννητικές Λοιμώξεις: από το Α εώς το Ω»\, το Σάββατο 17 Μαρτίου 2018\, στην Αθήνα. \nΔιακεκριμένοι Έλληνες επιστήμονες\, θα παρουσιάσουν τις νεότερες επιστημονικές εξελίξεις στις περιγεννητικές λοιμώξεις\, αναλύοντας το θέμα τόσο από την πλευρά των μαιευτήρων\, όσο και από την πλευρά των μαιών\, των νεογνολόγων-παιδιάτρων\, αλλά και των λοιπών εμπλεκομένων ειδικοτήτων. \n 
URL:https://iatrikostypos.com/event/perigennitikes-loimoxeis-apo-eos-o/
CATEGORIES:Διάφορα
ATTACH;FMTTYPE=image/jpeg:https://iatrikostypos.com/wp-content/uploads/2018/03/568x533_SYGGEN_LOIMO.jpg
END:VEVENT
BEGIN:VEVENT
DTSTART;TZID=Europe/Helsinki:20180316T080000
DTEND;TZID=Europe/Helsinki:20180318T220000
DTSTAMP:20260421T191728
CREATED:20180305T134128Z
LAST-MODIFIED:20180305T134128Z
UID:549-1521187200-1521410400@iatrikostypos.com
SUMMARY:12ο Διεθνές Συνέδριο της Αθλητιατρικής Εταιρείας Ελλάδος και 12ο Ελλαδο – Κυπριακό Συνέδριο
DESCRIPTION:12ο Διεθνές Συνέδριο της Αθλητιατρικής Εταιρείας Ελλάδος και 12ο Ελλαδο – Κυπριακό Συνέδριο \nΗμερομηνία : 16/03/2018 – 18/03/2018 \nΧώρος : Ξενοδοχείο Porto Palace \nΠόλη : Θεσσαλονίκη \nΕπιστημονική Εταιρεία : Αθλητιατρική Εταιρεία Ελλάδος \nΕπαγγελματίας Οργανωτής : Global Events
URL:https://iatrikostypos.com/event/12o-diethnes-synedrio-tis-athlitiatrikis-etaireias-ellados-kai-12o-ellado-kypriako-synedrio/
CATEGORIES:Διάφορα,ΣΥΝΕΔΡΙΑ
END:VEVENT
BEGIN:VEVENT
DTSTART;TZID=Europe/Helsinki:20180316T080000
DTEND;TZID=Europe/Helsinki:20180318T220000
DTSTAMP:20260421T191728
CREATED:20180305T132859Z
LAST-MODIFIED:20180305T133025Z
UID:547-1521187200-1521410400@iatrikostypos.com
SUMMARY:Εαρινή Επιστημονική Εκδήλωση 2018 «Αυτοάνοσα\, Ρευματικά και Μεταβολικά Νοσήματα»
DESCRIPTION:Εαρινή Επιστημονική Εκδήλωση 2018 «Αυτοάνοσα\, Ρευματικά και Μεταβολικά Νοσήματα» \n16-18 Μαρτίου 2018 \nΧώρος : Porto Palace \nΠόλη : Θεσσαλονίκη \nΕπιστημονική Εταιρεία : Εταιρεία Ιατρικών Σπουδών \nΕπαγγελματίας Οργανωτής : Global Events
URL:https://iatrikostypos.com/event/earini-epistimoniki-ekdilosi-2018-aytoanosa-reymatika-kai-metavolika-nosimata/
CATEGORIES:Ρευματολογικό,ΣΥΝΕΔΡΙΑ
END:VEVENT
BEGIN:VEVENT
DTSTART;TZID=Europe/Helsinki:20180316T080000
DTEND;TZID=Europe/Helsinki:20180318T220000
DTSTAMP:20260421T191728
CREATED:20180305T123113Z
LAST-MODIFIED:20180305T123113Z
UID:519-1521187200-1521410400@iatrikostypos.com
SUMMARY:12ο Συνέδριο Αθλητιατρικής Εταιρείας Ελλάδος
DESCRIPTION:12ο Συνέδριο Αθλητιατρικής Εταιρείας Ελλάδος \n16/03/2018 – 18/03/2018 \nPorto Palace Hotel\, Θεσσαλονίκη \nΕπιστημονική Εταιρεία : Αθλητιατρική Εταιρεία Ελλάδος \nΠληροφορίες : Global Events – Tηλ: 210 3250260 -e–mail: athens@globalevents.gr
URL:https://iatrikostypos.com/event/12o-synedrio-athlitiatrikis-etaireias-ellados/
CATEGORIES:Διάφορα,ΣΥΝΕΔΡΙΑ
END:VEVENT
BEGIN:VEVENT
DTSTART;TZID=Europe/Helsinki:20180316T080000
DTEND;TZID=Europe/Helsinki:20180318T213000
DTSTAMP:20260421T191728
CREATED:20180305T132721Z
LAST-MODIFIED:20180305T132721Z
UID:545-1521187200-1521408600@iatrikostypos.com
SUMMARY:Μεταβολικά Νοσήματα των Οστών – Βιβλιογραφική Ενημέρωση
DESCRIPTION:Μεταβολικά Νοσήματα των Οστών – Βιβλιογραφική Ενημέρωση \n16/03/2018 – 18/03/2018\nΣυνεδριακό Κέντρο Διάσελο: Μέτσοβο \nΕπιστημονική Εταιρεία / Φορέας :Ελληνική Εταιρεία Μελέτης Μεταβολισμού των οστών (ΕΕΜΜΟ) \nΕπαγγελματίας Οργανωτής / PCO :Conferre\,Τηλέφωνο : 2651 068610
URL:https://iatrikostypos.com/event/metavolika-nosimata-ton-oston-vivliografiki-enimerosi/
CATEGORIES:Διάφορα,ΣΥΝΕΔΡΙΑ
END:VEVENT
BEGIN:VEVENT
DTSTART;TZID=Europe/Helsinki:20180316T080000
DTEND;TZID=Europe/Helsinki:20180317T220000
DTSTAMP:20260421T191728
CREATED:20180305T124029Z
LAST-MODIFIED:20180305T124029Z
UID:526-1521187200-1521324000@iatrikostypos.com
SUMMARY:9η ΔΙΗΜΕΡΙΔΑ ΠΑΙΔΟΠΝΕΥΜΟΝΟΛΟΓΙΑΣ-ΠΑΙΔΟΑΛΛΕΡΓΙΟΛΟΓΙΑΣ
DESCRIPTION:9η ΔΙΗΜΕΡΙΔΑ ΠΑΙΔΟΠΝΕΥΜΟΝΟΛΟΓΙΑΣ-ΠΑΙΔΟΑΛΛΕΡΓΙΟΛΟΓΙΑΣ \n16/03/2018 – 17/03/2018 \nElectra Palace \nΠόλη : Αθήνα \nΓεωγραφικό Διαμέρισμα No Categories \nΕπιστημονική Εταιρεία / Φορέας :ΕΠΙΣΤΗΜΟΝΙΚΗ ΕΤΑΙΡΕΙΑ ΔΙΑ ΒΙΟΥ ΕΚΠΑΙΔΕΥΣΗΣ ΣΤΗΝ ΠΑΙΔΙΑΤΡΙΚΗ \nΕπαγγελματίας Οργανωτής / PCO :SYNEDRA\, Τηλ.: 2610432200\, e-mail : info@synedra.gr
URL:https://iatrikostypos.com/event/9i-diimerida-paidopneymonologias-paidoallergiologias/
CATEGORIES:Παιδιατρικό,ΣΥΝΕΔΡΙΑ
END:VEVENT
BEGIN:VEVENT
DTSTART;TZID=Europe/Helsinki:20180316T080000
DTEND;TZID=Europe/Helsinki:20180317T213000
DTSTAMP:20260421T191728
CREATED:20180305T124926Z
LAST-MODIFIED:20180305T124926Z
UID:532-1521187200-1521322200@iatrikostypos.com
SUMMARY:15η Διημερίδα «Εξελίξεις στην Καρδιαγγειακή Απεικόνιση 2017»
DESCRIPTION:15η Διημερίδα «Εξελίξεις στην Καρδιαγγειακή Απεικόνιση 2017» \n16/03/2018 – 17/03/2018 \nΧώρος : Αμφιθέατρο ΓΝΑ Ιπποκράτειο \nΠόλη : Αθήνα \nΕπιστημονική Εταιρεία : Α’ Καρδιολογική Κλινική ΓΝΑ Ιπποκράτειο \nΕπαγγελματίας Οργανωτής : MedEvents
URL:https://iatrikostypos.com/event/15i-diimerida-exelixeis-stin-kardiaggeiaki-apeikonisi-2017/
CATEGORIES:Καρδιολογικο,ΣΥΝΕΔΡΙΑ
END:VEVENT
BEGIN:VEVENT
DTSTART;TZID=Europe/Helsinki:20180316T080000
DTEND;TZID=Europe/Helsinki:20180317T213000
DTSTAMP:20260421T191728
CREATED:20180305T124336Z
LAST-MODIFIED:20180305T124336Z
UID:529-1521187200-1521322200@iatrikostypos.com
SUMMARY:5ο Κοινό Σεμινάριο Ρευματολογίας - Ορθοπαιδικής
DESCRIPTION:5ο Κοινό Σεμινάριο Ρευματολογίας – Ορθοπαιδικής \n16/03/2018 – 17/03/2018 \nΧώρος : Αίθουσα Εκδηλώσεων ΙΑΣΩ General \nΠόλη : Αθήνα \nΕπιστημονική Εταιρεία : Α’ Ορθοπαιδική Κλινική & Ρευματολογικό Τμήμα \nΕπαγγελματίας Οργανωτής : Global Events
URL:https://iatrikostypos.com/event/5o-koino-seminario-reymatologias-orthopaidikis/
CATEGORIES:Ρευματολογικό
END:VEVENT
BEGIN:VEVENT
DTSTART;TZID=Europe/Helsinki:20180316T080000
DTEND;TZID=Europe/Helsinki:20180316T213000
DTSTAMP:20260421T191728
CREATED:20180305T131221Z
LAST-MODIFIED:20180305T131600Z
UID:542-1521187200-1521235800@iatrikostypos.com
SUMMARY:Ενημερωτική εκδήλωση για το κοινό «Ζώντας με τη Νόσο του Parkinson: Προβλήματα\, δυνατότητες\, προοπτικές»
DESCRIPTION:Ενημερωτική εκδήλωση για το κοινό «Ζώντας με τη Νόσο του Parkinson: Προβλήματα\, δυνατότητες\, προοπτικές» \n16/03/2018 \nΞενοδοχείο Royal Olympic\, Αθήνα \nΕπιστημονική Εταιρεία / Φορέας :ΑΚΑΔΗΜΙΑ ΝΕΥΡΟΕΠΙΣΤΗΜΩΝ \nΕπαγγελματίας Οργανωτής / PCO : GK\, Τηλ.: 210689755\, e-mail : info@gk.gr
URL:https://iatrikostypos.com/event/enimerotiki-ekdilosi-gia-koino-zontas-ti-noso-toy-parkinson-provlimata-dynatotites-prooptikes/
CATEGORIES:Διάφορα,ΣΥΝΕΔΡΙΑ
END:VEVENT
BEGIN:VEVENT
DTSTART;TZID=Europe/Helsinki:20180316T080000
DTEND;TZID=Europe/Helsinki:20180316T213000
DTSTAMP:20260421T191728
CREATED:20180305T123707Z
LAST-MODIFIED:20180305T123707Z
UID:524-1521187200-1521235800@iatrikostypos.com
SUMMARY:7ο Πανελλήνιο Συνέδριο Κλιμακτηρίου & Εμμηνόπαυσης
DESCRIPTION:7ο Πανελλήνιο Συνέδριο Κλιμακτηρίου & Εμμηνόπαυσης \n16 Μαρτίου 2018 \nΧώρος : Στοά του βιβλίου \nΠόλη : Αθήνα \nΕπιστημονική Εταιρεία : Ελληνική Εταιρεία Κλιμακτηρίου & Εμμηνόπαυσης \nΕπαγγελματίας Οργανωτής : Free Spirit
URL:https://iatrikostypos.com/event/7o-panellinio-synedrio-klimaktirioy-emminopaysis/
CATEGORIES:ΣΥΝΕΔΡΙΑ
END:VEVENT
BEGIN:VEVENT
DTSTART;TZID=Europe/Helsinki:20180315T080000
DTEND;TZID=Europe/Helsinki:20180317T220000
DTSTAMP:20260421T191728
CREATED:20180305T122645Z
LAST-MODIFIED:20180305T122645Z
UID:517-1521100800-1521324000@iatrikostypos.com
SUMMARY:Advances and Perspectives in Gastrointestinal Oncology
DESCRIPTION:Advances and Perspectives in Gastrointestinal Oncology \n15/03/2018 – 17/03/2018 \nCrowne Plaza Hotel\, Αθήνα \nΕπιστημονική Εταιρεία : Hellenic Oncology Research Group \nΠληροφορίες : SCEP – Scientific Cultural Events & Publications – Τηλ.: 210-7240039- Fax.: 210-7240139 – e-mail: info@scep.gr-http://www.scep.gr
URL:https://iatrikostypos.com/event/advances-perspectives-gastrointestinal-oncology/
CATEGORIES:ΣΥΝΕΔΡΙΑ
END:VEVENT
END:VCALENDAR